Workbook

Sheet 封面
B2: 一、調薪差額補助經費說明
B3: 學校名稱 | L3: 附件：
B4: 核定金額(A) | D4: 執行金額(B) | H4: 結餘款(A-B) | L4: ="【"&目錄!A2&"】"&目錄!B2 -> 【附件一】綜合執行成果及結餘款說明
B5: 0 | D5: =F21 -> 129945 | H5: =$B$5-$D$5 -> -129945 | L5: ="【"&目錄!A3&"】"&目錄!B3 -> 【附件二】教師本俸差額執行表
B6: ※「調薪差額補助」經費應專款專用，如有結餘款應全數繳回，並於【附件一】說明產生結餘款之具體原因。 | L6: ="【"&目錄!A4&"】"&目錄!B4 -> 【附件三之(一)】學術研究加給（助理教授以上）差額執行表
L7: ="【"&目錄!A5&"】"&目錄!B5 -> 【附件三之(二)】學術研究加給（其他職級）差額執行表
B8: 二、補助經費（不含自籌款）執行成果彙整表 （依【附件二】至【附件五】統計） | L8: ="【"&目錄!A6&"】"&目錄!B6 -> 【附件四】主管加給差額執行表
D9: 執行成果件數 | F9: 補助經費來源 | I9: 補助經費 合計 (B+C) | J9: 備註 | L9: ="【"&目錄!A7&"】"&目錄!B7 -> 【附件五之(一)】編制內職員本俸差額執行表
F10: 調薪差額補助 | H10: 獎勵補助 經費(C) | L10: ="【"&目錄!A8&"】"&目錄!B8 -> 【附件五之(二)】編制內職員專業加給差額執行表
D11: 數量 | E11: 單位 | F11: 金額(B) | G11: 比率
B12: 1.教師本俸差額 | E12: 人 | F12: =二.教師本俸!R12 -> 20000 | G12: =F12/$F$21 -> 0.15391127 | H12: =二.教師本俸!S12 -> 24480 | I12: =SUM(F12,H12) -> 44480 | L12: 注意事項：
B13: 2.學術研究加給差額 | C13: 教授 | E13: 人 | G13: =F13/$F$21 -> 0 | I13: =SUM(F13,H13) -> 0
C14: 副教授 | E14: 人 | G14: =F14/$F$21 -> 0 | I14: =SUM(F14,H14) -> 0 | L14: (1) | M14: 學校應於次年2月28日前，將調薪差額補助成果報告，併同獎勵補助經費執行資料，上傳至各校網站後備文報部（附成果報告用印封面，毋須再將其他紙本資料報部），並繳回當年度結餘款，俾便考核運用成效。
C15: 助理教授 | E15: 人 | G15: =F15/$F$21 -> 0 | I15: =SUM(F15,H15) -> 0
C16: 講師 | E16: 人 | G16: =F16/$F$21 -> 0 | I16: =SUM(F16,H16) -> 0
C17: 助教 | E17: 人 | G17: =F17/$F$21 -> 0 | I17: =SUM(F17,H17) -> 0
C18: 護理實習臨床指導教師 | E18: 人 | G18: =F18/$F$21 -> 0 | I18: =SUM(F18,H18) -> 0 | L18: (2) | M18: 依《教育部獎勵補助私立技專校院整體發展經費核配及申請要點》第9點第(6)款規定，調薪差額補助經費應據實核支，採專款專帳管理，並依調薪差額補助成果報告格式辦理支用。
B19: 3.主管加給差額 | E19: 人 | F19: =四.主管加給!M11 -> 10425 | G19: =F19/$F$21 -> 0.08022625 | I19: =F19 -> 10425
B20: 4.編制內職員薪資差額 | E20: 人 | F20: ='五(一).職員本俸'!N11+'五(二).職員加給'!M11 -> 99520 | G20: =F20/$F$21 -> 0.76586248 | I20: =F20 -> 99520
B21: 合計 | F21: =SUM(F12:F20) -> 129945 | G21: 1 | H21: =SUM(H12:H18) -> 24480 | I21: =SUM(I12:I20) -> 154425
L22: (3) | M22: 依《教育部補（捐）助及委辦經費核撥結報作業要點》第11點第(3)款規定，因故無法於原定期程內報核，應於期限截止前申請展延，並在同意可延展期限內，完成結報。
B23: 學校名稱 (請加蓋學校關防) | D23: 校長簽章 | F23: 填表單位 | H23: 單位主管簽章 | J23: 填表日期
L24: (4) | M24: 請將成果報告依序排列裝訂成冊、編製目錄，並加蓋關防。

Sheet 目錄
A1: 資料名稱 | C1: 頁碼
A2: 附件一 | B2: 綜合執行成果及結餘款說明
A3: 附件二 | B3: 教師本俸差額執行表
A4: 附件三之(一) | B4: 學術研究加給（助理教授以上）差額執行表
A5: 附件三之(二) | B5: 學術研究加給（其他職級）差額執行表
A6: 附件四 | B6: 主管加給差額執行表
A7: 附件五之(一) | B7: 編制內職員本俸差額執行表
A8: 附件五之(二) | B8: 編制內職員專業加給差額執行表

Sheet 一.綜合成果
A1: 【綜合執行成果】 註1
A2: 一、全校執行人數彙整 註2
C3: 115年度 | O3: 每月平均人數
C4: 1月 | D4: 2月 | E4: 3月 | F4: 4月 | G4: 5月 | H4: 6月 | I4: 7月 | J4: 8月 | K4: 9月 | L4: 10月 | M4: 11月 | N4: 12月
A5: 教師本俸差額 | O5: =IFERROR(AVERAGE(C5:N5),"--") -> --
A6: 學術研究加給差額 | B6: 教授 | O6: =IFERROR(AVERAGE(C6:N6),"--") -> --
B7: 副教授 | O7: =IFERROR(AVERAGE(C7:N7),"--") -> --
B8: 助理教授 | O8: =IFERROR(AVERAGE(C8:N8),"--") -> --
B9: 講師 | O9: =IFERROR(AVERAGE(C9:N9),"--") -> --
B10: 助教 | O10: =IFERROR(AVERAGE(C10:N10),"--") -> --
B11: 護理實習臨床指導教師 | O11: =IFERROR(AVERAGE(C11:N11),"--") -> --
A12: 主管加給差額 | O12: =IFERROR(AVERAGE(C12:N12),"--") -> --
A13: 編制內職員薪資差額 | O13: =IFERROR(AVERAGE(C13:N13),"--") -> --
A15: 二、全校執行金額彙整 註3
C16: 115年度 | O16: 當年度執行 總金額 | P16: 經費來源 註4
C17: 1月 | D17: 2月 | E17: 3月 | F17: 4月 | G17: 5月 | H17: 6月 | I17: 7月 | J17: 8月 | K17: 9月 | L17: 10月 | M17: 11月 | N17: 12月 | P17: 調薪差額補助 | Q17: 獎勵補助經費 | S17: 其他 經費
Q18: 獎補款 | R18: 自籌款
A19: 教師本俸差額 | O19: =SUM(C19:N19) -> 0 | P19: =封面!F12 -> 20000 | Q19: =封面!H12 -> 24480 | R19: =二.教師本俸!T12 -> 580 | S19: =O19-P19-Q19-R19 -> -45060
A20: 學術研究加給差額 | B20: 教授 | O20: =SUM(C20:N20) -> 0 | P20: =封面!F13 -> 0 | Q20: =封面!H13 -> 0 | S20: =O20-P20-Q20-R20 -> 0
B21: 副教授 | O21: =SUM(C21:N21) -> 0 | P21: =封面!F14 -> 0 | Q21: =封面!H14 -> 0 | S21: =O21-P21-Q21-R21 -> 0
B22: 助理教授 | O22: =SUM(C22:N22) -> 0 | P22: =封面!F15 -> 0 | Q22: =封面!H15 -> 0 | S22: =O22-P22-Q22-R22 -> 0
B23: 講師 | O23: =SUM(C23:N23) -> 0 | P23: =封面!F16 -> 0 | Q23: =封面!H16 -> 0 | S23: =O23-P23-Q23-R23 -> 0
B24: 助教 | O24: =SUM(C24:N24) -> 0 | P24: =封面!F17 -> 0 | Q24: =封面!H17 -> 0 | S24: =O24-P24-Q24-R24 -> 0
B25: 護理實習臨床指導教師 | O25: =SUM(C25:N25) -> 0 | P25: =封面!F18 -> 0 | Q25: =封面!H18 -> 0 | S25: =O25-P25-Q25-R25 -> 0
A26: 主管加給差額 | O26: =SUM(C26:N26) -> 0 | P26: =封面!F19 -> 10425 | S26: =O26-P26-Q26-R26 -> -10425
A27: 編制內職員薪資差額 | O27: =SUM(C27:N27) -> 0 | P27: =封面!F20 -> 99520 | S27: =O27-P27-Q27-R27 -> -99520
A28: 金額小計 | C28: =SUM(C19:C27) -> 0 | D28: =SUM(D19:D27) -> 0 | E28: =SUM(E19:E27) -> 0 | F28: =SUM(F19:F27) -> 0 | G28: =SUM(G19:G27) -> 0 | H28: =SUM(H19:H27) -> 0 | I28: =SUM(I19:I27) -> 0 | J28: =SUM(J19:J27) -> 0 | ... R28: =SUM(R19:R27) -> 580 | S28: =O28-P28-Q28-R28 -> -155005
A30: 【結餘款說明】 註5
A33: 註1： | B33: 為瞭解學校是否依實際需求申請調薪差額補助經費，請於【綜合執行成果】彙整當年度「全校」實際調薪人數及實際發生之薪資差額，所需呈現之調薪基準及範圍，以學校函復教育部114年12月8日臺教高(三)字第1142203819號函之調查表為準，俾與學校填報之調查表內容進行比對。
A34: 註2： | B34: 全校執行人數彙整：請依調查表定義之補助對象，就全校整體狀況（非僅統計本報告【附件二】至【附件五】所列獲得補助經費之教職員），填寫各該月份實際上獲得調薪之人數，包含專任教師、編制內專任職員，不含編制外職員。
A35: 註3： | B35: 全校執行金額彙整：請依調查表定義之補助對象，就全校整體狀況（非僅統計本報告【附件二】至【附件五】所列補助經費之執行金額），填寫各該月份實際發生之薪資「差額」。
A36: 註4： | B36: 經費來源：係指當年度支應全校薪資差額所需總成本之各項經費來源，包含調薪差額補助、獎勵補助款、配合獎勵補助款投入之自籌款、其他經費等，其中獎勵補助款及其自籌款僅計「提高現職專任教師薪資」之金額。各項經費來源之金額加總，應與「當年度執行總金額」欄位之數據一致。
A37: 註5： | B37: 【結餘款說明】欄位請說明產生結餘款之具體原因；若無結餘款，則免填本欄。
A38: 註6： | B38: 藍底標示之欄位已預先設定公式，填寫時請留意相關公式設定，並確認資料輸入內容之正確性，以免影響後續統計結果及資料計算。
A39: 註7： | B39: 表格如不敷使用，請自行增列。

Sheet 二.教師本俸
A1: 序號 註1 | B1: 姓名 註2 | C1: 系所 | D1: 職級 | E1: 俸額 | F1: 調薪基準年 | H1: 每月本俸 | J1: 每月補助差額註3 | K1: 獲補助之調薪差幅 | L1: 補助期間 | M1: 補助月份 | N1: 合計 補助金額 | O1: 傳票日期 | P1: 付款 完成日 註4 | Q1: 原始 憑證冊 编號 | R1: 經費來源 註5、註6 | U1: 備註
R2: 調薪差額補助 | S2: 獎勵補助經費
F3: 調整前 | G3: 調整後 | H3: 調整前 | I3: 調整後 | S3: 獎補款 | T3: 自籌款
A4: 1 (範例) | B4: 張三 | C4: 企業管理系 | D4: 教授 | E4: 475 | F4: 111 | G4: 115 | H4: 41910 | I4: 44970 | J4: =I4-H4 -> 3060 | K4: =IFERROR(J4/H4,"--") -> 0.073013601 | L4: 1～3月 | M4: 3 | N4: =J4*M4 -> 9180 | O4: 115.1.15 115.2.15 115.3.15 | P4: 115.1.15 115.2.15 115.3.15 | Q4: D01004 D02003 D03006 | R4: 0 | S4: 9180 | T4: 0
A5: 2 (範例) | B5: 李四 | C5: 工業設計系 | D5: 助理教授 | E5: 230 | F5: 110 | G5: 115 | H5: 25180 | I5: 28120 | J5: =I5-H5 -> 2940 | K5: =IFERROR(J5/H5,"--") -> 0.11675933 | L5: 1～7月 | M5: 7 | N5: =J5*M5 -> 20580 | O5: 115.1.15 115.2.15 115.3.15 115.4.15 115.5.15 115.6.15 115.7.15 | P5: 115.1.15 115.2.15 115.3.15 115.4.15 115.5.15 115.6.15 115.7.15 | Q5: D01004 D02003 D03006 D04005 D05003 D06005 D07004 | R5: 10000 | S5: 10000 | T5: 580 | U5: 8月晉薪
E6: 245 | F6: 110 | G6: 115 | H6: 26210 | I6: 29270 | J6: =I6-H6 -> 3060 | K6: =IFERROR(J6/H6,"--") -> 0.11674933 | L6: 8～12月 | M6: 5 | N6: =J6*M6 -> 15300 | O6: 115.8.15 115.9.15 115.10.15 115.11.15 115.12.15 | P6: 115.8.15 115.9.15 115.10.15 115.11.15 115.12.15 | Q6: D08005 D09003 D10006 D11002 D12004 | R6: 10000 | S6: 5300 | T6: 0
J7: =I7-H7 -> 0 | K7: =IFERROR(J7/H7,"--") -> -- | N7: =J7*M7 -> 0
J8: =I8-H8 -> 0 | K8: =IFERROR(J8/H8,"--") -> -- | N8: =J8*M8 -> 0
J9: =I9-H9 -> 0 | K9: =IFERROR(J9/H9,"--") -> -- | N9: =J9*M9 -> 0
J10: =I10-H10 -> 0 | K10: =IFERROR(J10/H10,"--") -> -- | N10: =J10*M10 -> 0
J11: =I11-H11 -> 0 | K11: =IFERROR(J11/H11,"--") -> -- | N11: =J11*M11 -> 0
A12: 總計 | N12: =SUM(N4:N11) -> 45060 | R12: =SUM(R4:R11) -> 20000 | S12: =SUM(S4:S11) -> 24480 | T12: =SUM(T4:T11) -> 580
A14: 註1： | B14: 為避免造成重複補助之疑慮，請勿將同一教師補助案置於不相鄰之不同序號。
A15: 註2： | B15: 依教育部114年12月8日臺教高(三)字第1142203819號函，教師本俸之補助對象為專任教師（含專案教師、護理實習臨床指導教師）。補助對象如於年度中晉薪，請依實際狀況填列晉薪前後相關資料，並於備註欄註記晉薪時間及異動情形，以利後續資料核對。
A16: 註3： | B16: 調薪基準以學校函復教育部114年12月8日臺教高(三)字第1142203819號函之調查表辦理，每月補助差額為調整前、後之教師本俸差額。舉例而言，若學校於111~115年皆有配合政府政策調薪，並填列於該調查表中，本項經費即可支用於115與110年之薪資差額。亦即，其調整前本俸可採110~113年之基準；調整後本俸可採111~115年之基準。
A17: 註4： | B17: 「付款完成日」請填實際撥付款項日期－以實際轉帳日或支票到期日為認定基準，作成轉帳或付款傳票不屬於付款完成。本項經費在12月31日前，尚未發生債務關係或契約責任者，應即停止支用，其已發生之債務關係或契約責任者（已於12月31日前做應付傳票），應於次年1月15日截止支付。
A18: 註5： | B18: 為避免重複補助，當年度若有獲核定調薪差額補助經費，同時並執行獎勵補助經費「提高現職專任教師薪資」項目，「提高現職專任教師薪資」執行明細統一填列於本成果報告，但其執行成果件數及金額仍須彙總列示於獎勵補助經費執行清冊【附件六】。
A19: 註6： | B19: 經費來源為獎勵補助經費者，其「調薪基準年」比照當年度「調薪差額補助」經費辦理，且經費支用須符合《教育部獎勵補助私立技專校院整體發展經費核配及申請要點》第9點相關規定。「提高現職專任教師薪資」係指比照115年中央政府調整軍公教人員待遇、公立大專校院教師學術研究加給標準所提高之現職專任教師薪資所需經費（全部職級皆須比照），補助對象不得為年滿65歲以上或公立學校、政府機關退休至私立學校服務之教師，其薪資應由學校其他經費支付；其中於民國115年滿65歲以上係指民國50年1月1日前出生者。接受補助之教師實際授課時數不得為零，惟校長不得接受各項補助。
A20: 註7： | B20: 藍底標示之欄位已預先設定公式，填寫時請留意相關公式設定，並確認資料輸入內容之正確性，以免影響後續統計結果及資料計算。
A21: 註8： | B21: 表列「範例」僅供學校參考，填表時請自行刪除範例內容，並依學校實際執行情形填寫。表格如不敷使用，請自行增列。

Sheet 三(一).學研-助理教授以上
A1: 序號 註1 | B1: 姓名 註2 | C1: 系所 | D1: 職級 | E1: 調薪基準年 | G1: 月支數額 | I1: 每月補助差額註3 | J1: 獲補助之調薪差幅 | K1: 補助期間 | L1: 補助月份 | M1: 合計 補助金額 | N1: 傳票日期 | O1: 付款 完成日 註4 | P1: 原始 憑證冊编號 | Q1: 經費來源 註5、註6 | T1: 備註
Q2: 調薪差額補助 | R2: 獎勵補助經費
E3: 調整前 | F3: 調整後 | G3: 調整前 | H3: 調整後 | R3: 獎補款 | S3: 自籌款
A4: 1 (範例) | B4: 張三 | C4: 企業管理系 | D4: 教授 | E4: 110 | F4: 115 | G4: 59895 | H4: 73800 | I4: =H4-G4 -> 13905 | J4: =IFERROR(I4/G4,"--") -> 0.23215627 | K4: 1～3月 | L4: 3 | M4: =I4*L4 -> 41715 | N4: 115.1.15 115.2.15 115.3.15 | O4: 115.1.15 115.2.15 115.3.15 | P4: D01004 D02003 D03006 | Q4: 25000 | R4: 15000 | S4: 1715
A5: 2 (範例) | B5: 李四 | C5: 機械工程系 | D5: 助理教授 | E5: 110 | F5: 115 | G5: 40455 | H5: 49860 | I5: =H5-G5 -> 9405 | J5: =IFERROR(I5/G5,"--") -> 0.23248053 | K5: 1～7月 | L5: 7 | M5: =I5*L5 -> 65835 | N5: 115.1.15 115.2.15 115.3.15 115.4.15 115.5.15 115.6.15 115.7.15 | O5: 115.1.15 115.2.15 115.3.15 115.4.15 115.5.15 115.6.15 115.7.15 | P5: D01004 D02003 D03006 D04005 D05003 D06005 D07004 | Q5: 30000 | R5: 35835 | S5: 0 | T5: 8月升等副教授
D6: 副教授 | E6: 110 | F6: 115 | G6: 46230 | H6: 56960 | I6: =H6-G6 -> 10730 | J6: =IFERROR(I6/G6,"--") -> 0.23210037 | K6: 8～12月 | L6: 5 | M6: =I6*L6 -> 53650 | N6: 115.8.15 115.9.15 115.10.15 115.11.15 115.12.15 | O6: 115.8.15 115.9.15 115.10.15 115.11.15 115.12.15 | P6: D08005 D09003 D10006 D11002 D12004 | Q6: 30000 | R6: 23650 | S6: 0
I7: =H7-G7 -> 0 | J7: =IFERROR(I7/G7,"--") -> -- | M7: =I7*L7 -> 0
I8: =H8-G8 -> 0 | J8: =IFERROR(I8/G8,"--") -> -- | M8: =I8*L8 -> 0
I9: =H9-G9 -> 0 | J9: =IFERROR(I9/G9,"--") -> -- | M9: =I9*L9 -> 0
I10: =H10-G10 -> 0 | J10: =IFERROR(I10/G10,"--") -> -- | M10: =I10*L10 -> 0
I11: =H11-G11 -> 0 | J11: =IFERROR(I11/G11,"--") -> -- | M11: =I11*L11 -> 0
A12: 總計 | M12: =SUM(M4:M11) -> 161200 | Q12: =SUM(Q4:Q11) -> 85000 | R12: =SUM(R4:R11) -> 74485 | S12: =SUM(S4:S11) -> 1715
A14: 註1： | B14: 為避免造成重複補助之疑慮，請勿將同一教師補助案置於不相鄰之不同序號。
A15: 註2： | B15: 依教育部114年12月8日臺教高(三)字第1142203819號函，學術研究加給之補助對象為專任教師（含專案教師、護理實習臨床指導教師）。補助對象如於年度中升等，請依實際狀況填列升等前後相關資料，並於備註欄註記升等時間及異動情形，以利後續資料核對。
A16: 註3： | B16: 調薪基準以學校函復教育部114年12月8日臺教高(三)字第1142203819號函之調查表辦理，每月補助差額為調整前、後之學術研究加給差額。舉例而言，若學校於111~115年皆有配合政府政策調薪，並填列於該調查表中，本項經費即可支用於115與110年之薪資差額。亦即，其調整前學術研究加給可採110~113年之基準；調整後學術研究加給可採111~115年之基準。
A17: 註4： | B17: 「付款完成日」請填實際撥付款項日期－以實際轉帳日或支票到期日為認定基準，作成轉帳或付款傳票不屬於付款完成。本項經費在12月31日前，尚未發生債務關係或契約責任者，應即停止支用，其已發生之債務關係或契約責任者（已於12月31日前做應付傳票），應於次年1月15日截止支付。
A18: 註5： | B18: 為避免重複補助，當年度若有獲核定調薪差額補助經費，同時並執行獎勵補助經費「提高現職專任教師薪資」項目，「提高現職專任教師薪資」執行明細統一填列於本成果報告，但其執行成果件數及金額仍須彙總列示於獎勵補助經費執行清冊【附件六】。
A19: 註6： | B19: 經費來源為獎勵補助經費者，其「調薪基準年」比照當年度「調薪差額補助」經費辦理，且經費支用須符合《教育部獎勵補助私立技專校院整體發展經費核配及申請要點》第9點相關規定。「提高現職專任教師薪資」係指比照115年中央政府調整軍公教人員待遇、公立大專校院教師學術研究加給標準所提高之現職專任教師薪資所需經費（全部職級皆須比照），補助對象不得為年滿65歲以上或公立學校、政府機關退休至私立學校服務之教師，其薪資應由學校其他經費支付；其中於民國115年滿65歲以上係指民國50年1月1日前出生者。接受補助之教師實際授課時數不得為零，惟校長不得接受各項補助。
A20: 註7： | B20: 藍底標示之欄位已預先設定公式，填寫時請留意相關公式設定，並確認資料輸入內容之正確性，以免影響後續統計結果及資料計算。
A21: 註8： | B21: 表列「範例」僅供學校參考，填表時請自行刪除範例內容，並依學校實際執行情形填寫。表格如不敷使用，請自行增列。

Sheet 三(二).學研-其他
A1: 序號 註1 | B1: 姓名 註2 | C1: 系所 | D1: 職級 | E1: 調薪基準年 | G1: 月支數額 | I1: 每月補助差額註3 | J1: 獲補助之調薪差幅 | K1: 補助期間 | L1: 補助月份 | M1: 合計 補助金額 | N1: 傳票日期 | O1: 付款 完成日 註4 | P1: 原始 憑證冊编號 | Q1: 經費來源 註5、註6 | T1: 備註
Q2: 調薪差額補助 | R2: 獎勵補助經費
E3: 調整前 | F3: 調整後 | G3: 調整前 | H3: 調整後 | R3: 獎補款 | S3: 自籌款
A4: 1 (範例) | B4: 王五 | C4: 國際貿易系 | D4: 講師 | E4: 110 | F4: 113 | G4: 31925 | H4: 34540 | I4: =H4-G4 -> 2615 | J4: =IFERROR(I4/G4,"--") -> 0.081910728 | K4: 1～3月 | L4: 3 | M4: =I4*L4 -> 7845 | N4: 115.1.15 115.2.15 115.3.15 | O4: 115.1.15 115.2.15 115.3.15 | P4: D01004 D02003 D03006 | Q4: 5000 | R4: 2000 | S4: 845
A5: 2 (範例) | B5: 趙六 | C5: 機械工程系 | D5: 講師 | E5: 112 | F5: 115 | G5: 33210 | H5: 35580 | I5: =H5-G5 -> 2370 | J5: =IFERROR(I5/G5,"--") -> 0.071364047 | K5: 1～3月 | L5: 3 | M5: =I5*L5 -> 7110 | N5: 115.1.15 115.2.15 115.3.15 | O5: 115.1.15 115.2.15 115.3.15 | P5: D01004 D02003 D03006 | Q5: 7110 | R5: 0 | S5: 0
I6: =H6-G6 -> 0 | J6: =IFERROR(I6/G6,"--") -> -- | M6: =I6*L6 -> 0
I7: =H7-G7 -> 0 | J7: =IFERROR(I7/G7,"--") -> -- | M7: =I7*L7 -> 0
I8: =H8-G8 -> 0 | J8: =IFERROR(I8/G8,"--") -> -- | M8: =I8*L8 -> 0
I9: =H9-G9 -> 0 | J9: =IFERROR(I9/G9,"--") -> -- | M9: =I9*L9 -> 0
I10: =H10-G10 -> 0 | J10: =IFERROR(I10/G10,"--") -> -- | M10: =I10*L10 -> 0
I11: =H11-G11 -> 0 | J11: =IFERROR(I11/G11,"--") -> -- | M11: =I11*L11 -> 0
A12: 總計 | M12: =SUM(M4:M11) -> 14955 | Q12: =SUM(Q4:Q11) -> 12110 | R12: =SUM(R4:R11) -> 2000 | S12: =SUM(S4:S11) -> 845
A14: 註1： | B14: 為避免造成重複補助之疑慮，請勿將同一教師補助案置於不相鄰之不同序號。
A15: 註2： | B15: 依教育部114年12月8日臺教高(三)字第1142203819號函，學術研究加給之補助對象為專任教師（含專案教師、護理實習臨床指導教師）。補助對象如於年度中升等，請依實際狀況填列升等前後相關資料，並於備註欄註記升等時間及異動情形，以利後續資料核對。
A16: 註3： | B16: 調薪基準以學校函復教育部114年12月8日臺教高(三)字第1142203819號函之調查表辦理，每月補助差額為調整前、後之學術研究加給差額。舉例而言，若學校於111~115年皆有配合政府政策調薪，並填列於該調查表中，本項經費即可支用於115與110年之薪資差額。亦即，其調整前學術研究加給可採110~113年之基準；調整後學術研究加給可採111~115年之基準。
A17: 註4： | B17: 「付款完成日」請填實際撥付款項日期－以實際轉帳日或支票到期日為認定基準，作成轉帳或付款傳票不屬於付款完成。本項經費在12月31日前，尚未發生債務關係或契約責任者，應即停止支用，其已發生之債務關係或契約責任者（已於12月31日前做應付傳票），應於次年1月15日截止支付。
A18: 註5： | B18: 為避免重複補助，當年度若有獲核定調薪差額補助經費，同時並執行獎勵補助經費「提高現職專任教師薪資」項目，「提高現職專任教師薪資」執行明細統一填列於本成果報告，但其執行成果件數及金額仍須彙總列示於獎勵補助經費執行清冊【附件六】。
A19: 註6： | B19: 經費來源為獎勵補助經費者，其「調薪基準年」比照當年度「調薪差額補助」經費辦理，且經費支用須符合《教育部獎勵補助私立技專校院整體發展經費核配及申請要點》第9點相關規定。「提高現職專任教師薪資」係指比照115年中央政府調整軍公教人員待遇、公立大專校院教師學術研究加給標準所提高之現職專任教師薪資所需經費（全部職級皆須比照），補助對象不得為年滿65歲以上或公立學校、政府機關退休至私立學校服務之教師，其薪資應由學校其他經費支付；其中於民國115年滿65歲以上係指民國50年1月1日前出生者。接受補助之教師實際授課時數不得為零，惟校長不得接受各項補助。
A20: 註7： | B20: 藍底標示之欄位已預先設定公式，填寫時請留意相關公式設定，並確認資料輸入內容之正確性，以免影響後續統計結果及資料計算。
A21: 註8： | B21: 表列「範例」僅供學校參考，填表時請自行刪除範例內容，並依學校實際執行情形填寫。表格如不敷使用，請自行增列。

Sheet 四.主管加給
A1: 序號 註1 | B1: 姓名 註2 | C1: 單位 | D1: 職稱 | E1: 調薪基準年 | G1: 月支數額 | I1: 每月補助 差額註3 | J1: 獲補助之 調薪差幅 | K1: 補助期間 | L1: 補助月份 | M1: 合計 補助金額 | N1: 傳票日期 | O1: 付款完成日 註4 | P1: 原始憑證冊编號 | Q1: 備註
E2: 調整前 | F2: 調整後 | G2: 調整前 | H2: 調整後
A3: 1 (範例) | B3: 孫七 | C3: 校長室 | D3: 校長 | E3: 110 | F3: 112 | G3: 32385 | H3: 33700 | I3: =H3-G3 -> 1315 | J3: =IFERROR(I3/G3,"--") -> 0.040605218 | K3: 8～12月 | L3: 5 | M3: =I3*L3 -> 6575 | N3: 115.8.15 115.9.15 115.10.15 115.11.15 115.12.15 | O3: 115.8.15 115.9.15 115.10.15 115.11.15 115.12.15 | P3: B08014 B09020 B10007 B11008 B12002
A4: 2 (範例) | B4: 周八 | C4: 校務發展中心 | D4: 主任 | E4: 113 | F4: 115 | G4: 25050 | H4: 25820 | I4: =H4-G4 -> 770 | J4: =IFERROR(I4/G4,"--") -> 0.030738523 | K4: 8～12月 | L4: 5 | M4: =I4*L4 -> 3850 | N4: 115.8.15 115.9.15 115.10.15 115.11.15 115.12.15 | O4: 115.8.15 115.9.15 115.10.15 115.11.15 115.12.15 | P4: B08014 B09020 B10007 B11008 B12002
I5: =H5-G5 -> 0 | J5: =IFERROR(I5/G5,"--") -> -- | M5: =I5*L5 -> 0
I6: =H6-G6 -> 0 | J6: =IFERROR(I6/G6,"--") -> -- | M6: =I6*L6 -> 0
I7: =H7-G7 -> 0 | J7: =IFERROR(I7/G7,"--") -> -- | M7: =I7*L7 -> 0
I8: =H8-G8 -> 0 | J8: =IFERROR(I8/G8,"--") -> -- | M8: =I8*L8 -> 0
I9: =H9-G9 -> 0 | J9: =IFERROR(I9/G9,"--") -> -- | M9: =I9*L9 -> 0
I10: =H10-G10 -> 0 | J10: =IFERROR(I10/G10,"--") -> -- | M10: =I10*L10 -> 0
A11: 總計 | M11: =SUM(M3:M10) -> 10425
A13: 註1： | B13: 為避免造成重複補助之疑慮，請勿將同一人員補助案置於不相鄰之不同序號。
A14: 註2： | B14: 依教育部114年12月8日臺教高(三)字第1142203819號函，本項經費之補助對象包含專任教師、編制內職員（不含編制外職員）。
A15: 註3： | B15: 調薪基準以學校函復教育部114年12月8日臺教高(三)字第1142203819號函之調查表辦理，每月補助差額為調整前、後之主管加給差額。舉例而言，若學校於111~115年皆有配合政府政策調薪，並填列於該調查表中，本項經費即可支用於115與110年之薪資差額。亦即，其調整前主管加給可採110~113年之基準；調整後主管加給可採111~115年之基準。
A16: 註4： | B16: 「付款完成日」請填實際撥付款項日期－以實際轉帳日或支票到期日為認定基準，作成轉帳或付款傳票不屬於付款完成。本項經費在12月31日前，尚未發生債務關係或契約責任者，應即停止支用，其已發生之債務關係或契約責任者（已於12月31日前做應付傳票），應於次年1月15日截止支付。
A17: 註5： | B17: 藍底標示之欄位已預先設定公式，填寫時請留意相關公式設定，並確認資料輸入內容之正確性，以免影響後續統計結果及資料計算。
A18: 註6： | B18: 表列「範例」僅供學校參考，填表時請自行刪除範例內容，並依學校實際執行情形填寫。表格如不敷使用，請自行增列。

Sheet 五(一).職員本俸
A1: 序號 註1 | B1: 姓名 註2 | C1: 單位 | D1: 職稱 | E1: 俸額 | F1: 調薪基準年 | H1: 每月本俸 | J1: 每月補助 差額註3 | K1: 獲補助之 調薪差幅 | L1: 補助期間 | M1: 補助月份 | N1: 合計 補助金額 | O1: 傳票日期 | P1: 付款完成日 註4 | Q1: 原始憑證冊编號 | R1: 備註
F2: 調整前 | G2: 調整後 | H2: 調整前 | I2: 調整後
A3: 1 (範例) | B3: 吳九 | C3: 校長室 | D3: 秘書 | E3: 450 | F3: 110 | G3: 113 | H3: 37530 | I3: 40650 | J3: =I3-H3 -> 3120 | K3: =IFERROR(J3/H3,"--") -> 0.083133493 | L3: 1～7月 | M3: 7 | N3: =J3*M3 -> 21840 | O3: 115.1.15 115.2.15 115.3.15 115.4.15 115.5.15 115.6.15 115.7.15 | P3: 115.1.15 115.2.15 115.3.15 115.4.15 115.5.15 115.6.15 115.7.15 | Q3: C01014 C02020 C03007 C04008 C05002 C06006 C07012
A4: 2 (範例) | B4: 鄭十 | C4: 教務處註冊組 | D4: 組員 | E4: 390 | F4: 110 | G4: 115 | H4: 34440 | I4: 38460 | J4: =I4-H4 -> 4020 | K4: =IFERROR(J4/H4,"--") -> 0.11672474 | L4: 1～7月 | M4: 7 | N4: =J4*M4 -> 28140 | O4: 115.1.15 115.2.15 115.3.15 115.4.15 115.5.15 115.6.15 115.7.15 | P4: 115.1.15 115.2.15 115.3.15 115.4.15 115.5.15 115.6.15 115.7.15 | Q4: C01014 C02020 C03007 C04008 C05002 C06006 C07012 | R4: 8月晉薪
E5: 410 | F5: 110 | G5: 115 | H5: 35470 | I5: 39610 | J5: =I5-H5 -> 4140 | K5: =IFERROR(J5/H5,"--") -> 0.11671835 | L5: 8～12月 | M5: 5 | N5: =J5*M5 -> 20700 | O5: 115.8.15 115.9.15 115.10.15 115.11.15 115.12.15 | P5: 115.8.15 115.9.15 115.10.15 115.11.15 115.12.15 | Q5: C08007 C09004 C10003 C11006 C12018
J6: =I6-H6 -> 0 | K6: =IFERROR(J6/H6,"--") -> -- | N6: =J6*M6 -> 0
J7: =I7-H7 -> 0 | K7: =IFERROR(J7/H7,"--") -> -- | N7: =J7*M7 -> 0
J8: =I8-H8 -> 0 | K8: =IFERROR(J8/H8,"--") -> -- | N8: =J8*M8 -> 0
J9: =I9-H9 -> 0 | K9: =IFERROR(J9/H9,"--") -> -- | N9: =J9*M9 -> 0
J10: =I10-H10 -> 0 | K10: =IFERROR(J10/H10,"--") -> -- | N10: =J10*M10 -> 0
A11: 總計 | N11: =SUM(N3:N10) -> 70680
A13: 註1： | B13: 為避免造成重複補助之疑慮，請勿將同一人員補助案置於不相鄰之不同序號。
A14: 註2： | B14: 依教育部114年12月8日臺教高(三)字第1142203819號函，職員薪資不含主管加給，補助對象為編制內職員（不含編制外職員）。補助對象如於年度中晉薪，請依實際狀況填列晉薪前後相關資料，並於備註欄註記晉薪時間及異動情形，以利後續資料核對。
A15: 註3： | B15: 調薪基準以學校函復教育部114年12月8日臺教高(三)字第1142203819號函之調查表辦理，每月補助差額為調整前、後之職員本俸差額。舉例而言，若學校於111~115年皆有配合政府政策調薪，並填列於該調查表中，本項經費即可支用於115與110年之薪資差額。亦即，其調整前職員本俸可採110~113年之基準；調整後職員本俸可採111~115年之基準。
A16: 註4： | B16: 「付款完成日」請填實際撥付款項日期－以實際轉帳日或支票到期日為認定基準，作成轉帳或付款傳票不屬於付款完成。本項經費在12月31日前，尚未發生債務關係或契約責任者，應即停止支用，其已發生之債務關係或契約責任者（已於12月31日前做應付傳票），應於次年1月15日截止支付。
A17: 註5： | B17: 藍底標示之欄位已預先設定公式，填寫時請留意相關公式設定，並確認資料輸入內容之正確性，以免影響後續統計結果及資料計算。
A18: 註6： | B18: 表列「範例」僅供學校參考，填表時請自行刪除範例內容，並依學校實際執行情形填寫。表格如不敷使用，請自行增列。

Sheet 五(二).職員加給
A1: 序號 註1 | B1: 姓名 註2 | C1: 單位 | D1: 職稱 | E1: 調薪基準年 | G1: 月支數額 | I1: 每月補助 差額註3 | J1: 獲補助之 調薪差幅 | K1: 補助期間 | L1: 補助月份 | M1: 合計 補助金額 | N1: 傳票日期 | O1: 付款完成日 註4 | P1: 原始憑證冊编號 | Q1: 備註
E2: 調整前 | F2: 調整後 | G2: 調整前 | H2: 調整後
A3: 1 (範例) | B3: 吳九 | C3: 校長室 | D3: 秘書 | E3: 110 | F3: 113 | G3: 23810 | H3: 25790 | I3: =H3-G3 -> 1980 | J3: =IFERROR(I3/G3,"--") -> 0.083158337 | K3: 1～7月 | L3: 7 | M3: =I3*L3 -> 13860 | N3: 115.1.15 115.2.15 115.3.15 115.4.15 115.5.15 115.6.15 115.7.15 | O3: 115.1.15 115.2.15 115.3.15 115.4.15 115.5.15 115.6.15 115.7.15 | P3: C01014 C02020 C03007 C04008 C05002 C06006 C07012
A4: 2 (範例) | B4: 鄭十 | C4: 總務處保管組 | D4: 組員 | E4: 112 | F4: 115 | G4: 29420 | H4: 31560 | I4: =H4-G4 -> 2140 | J4: =IFERROR(I4/G4,"--") -> 0.072739633 | K4: 1～7月 | L4: 7 | M4: =I4*L4 -> 14980 | N4: 115.1.15 115.2.15 115.3.15 115.4.15 115.5.15 115.6.15 115.7.15 | O4: 115.1.15 115.2.15 115.3.15 115.4.15 115.5.15 115.6.15 115.7.15 | P4: C01014 C02020 C03007 C04008 C05002 C06006 C07012
I5: =H5-G5 -> 0 | J5: =IFERROR(I5/G5,"--") -> -- | M5: =I5*L5 -> 0
I6: =H6-G6 -> 0 | J6: =IFERROR(I6/G6,"--") -> -- | M6: =I6*L6 -> 0
I7: =H7-G7 -> 0 | J7: =IFERROR(I7/G7,"--") -> -- | M7: =I7*L7 -> 0
I8: =H8-G8 -> 0 | J8: =IFERROR(I8/G8,"--") -> -- | M8: =I8*L8 -> 0
I9: =H9-G9 -> 0 | J9: =IFERROR(I9/G9,"--") -> -- | M9: =I9*L9 -> 0
I10: =H10-G10 -> 0 | J10: =IFERROR(I10/G10,"--") -> -- | M10: =I10*L10 -> 0
A11: 總計 | M11: =SUM(M3:M10) -> 28840
A13: 註1： | B13: 為避免造成重複補助之疑慮，請勿將同一人員補助案置於不相鄰之不同序號。
A14: 註2： | B14: 依教育部114年12月8日臺教高(三)字第1142203819號函，職員薪資不含主管加給，補助對象為編制內職員（不含編制外職員）。
A15: 註3： | B15: 調薪基準以學校函復教育部114年12月8日臺教高(三)字第1142203819號函之調查表辦理，每月補助差額為調整前、後之職員專業加給差額。舉例而言，若學校於111~115年皆有配合政府政策調薪，並填列於該調查表中，本項經費即可支用於115與110年之薪資差額。亦即，其調整前職員專業加給可採110~113年之基準；調整後職員專業加給可採111~115年之基準。
A16: 註4： | B16: 「付款完成日」請填實際撥付款項日期－以實際轉帳日或支票到期日為認定基準，作成轉帳或付款傳票不屬於付款完成。本項經費在12月31日前，尚未發生債務關係或契約責任者，應即停止支用，其已發生之債務關係或契約責任者（已於12月31日前做應付傳票），應於次年1月15日截止支付。
A17: 註5： | B17: 藍底標示之欄位已預先設定公式，填寫時請留意相關公式設定，並確認資料輸入內容之正確性，以免影響後續統計結果及資料計算。
A18: 註6： | B18: 表列「範例」僅供學校參考，填表時請自行刪除範例內容，並依學校實際執行情形填寫。表格如不敷使用，請自行增列。
