Workbook

Sheet 調查表
A1: 115年度7月私立大專校院因應調薪後人事費增加情形調查表
A2: 學校名稱 | B2: 請填入學校名稱
A3: 項目 | B3: 115年7月1日 在職人數 | D3: 115年 | H3: 調薪後增加之經費合計 (E)=(B-A)*C | I3: 每月補助金額 (至多補助差額2000*70%) (F) | J3: 補助金額合計 (G)=F*C | K3: 備註
D4: 6月所需總經費 (A) | E4: 調薪後當月所需總經費 (B) | F4: 調薪月數總計 (C) | G4: 調薪幅度(%) (D)=(B-A)/A
A5: 學術研究加給 【助理教授以上】 | B5: 教授 | C5: ='專任教師－學術研究加給'!I3 -> 0 | D5: ='專任教師－學術研究加給'!J3 -> 0 | E5: ='專任教師－學術研究加給'!K3 -> 0 | F5: 6 | G5: =IF(D5=0,0,(E5-D5)/D5) -> 0 | H5: =((E5-D5)*F5) -> 0 | I5: ='專任教師－學術研究加給'!L3 -> 0 | J5: =I5*F5 -> 0
B6: 副教授 | C6: ='專任教師－學術研究加給'!I4 -> 0
B7: 助理教授 | C7: ='專任教師－學術研究加給'!I5 -> 0
A8: 學術研究加給 【講師、助教及護理實習臨床指導教師】 | B8: 講師 | C8: ='專任教師－學術研究加給'!I6 -> 0 | D8: ='專任教師－學術研究加給'!J6 -> 0 | E8: ='專任教師－學術研究加給'!K6 -> 0 | F8: 6 | G8: =IF(D8=0,0,(E8-D8)/D8) -> 0 | H8: =((E8-D8)*F8) -> 0 | I8: ='專任教師－學術研究加給'!L6 -> 0 | J8: =I8*F8 -> 0
B9: 助教 | C9: ='專任教師－學術研究加給'!I7 -> 0
B10: 護理實習臨床指導教師 | C10: ='專任教師－學術研究加給'!I8 -> 0
A11: 主管加給 【包含職員及專任教師】 | B11: ='編制內職員+專任教師－主管加給'!J3+'編制內職員+專任教師－主管加給'!J4 -> 0 | D11: ='編制內職員+專任教師－主管加給'!K3+'編制內職員+專任教師－主管加給'!K4 -> 0 | E11: ='編制內職員+專任教師－主管加給'!L3+'編制內職員+專任教師－主管加給'!L4 -> 0 | F11: 6 | G11: =IF(D11=0,0,(E11-D11)/D11) -> 0 | H11: =((E11-D11)*F11) -> 0 | I11: ='編制內職員+專任教師－主管加給'!M3+'編制內職員+專任教師－主管加給'!M4 -> 0 | J11: =I11*F11 -> 0
A12: 編制內職員專業加給 【不含主管加給】 | B12: ='編制內職員－專業加給'!H3 -> 0 | D12: ='編制內職員－專業加給'!I3 -> 0 | E12: ='編制內職員－專業加給'!J3 -> 0 | F12: 6 | G12: =IF(D12=0,0,(E12-D12)/D12) -> 0 | H12: =((E12-D12)*F12) -> 0 | I12: ='編制內職員－專業加給'!K3 -> 0 | J12: =I12*F12 -> 0
A13: 總 計 | D13: =SUM(D5:D12) -> 0 | E13: =SUM(E5:E12) -> 0 | H13: =SUM(H5:H12) -> 0 | I13: =SUM(I5:I12) -> 0 | J13: =SUM(J5:J12) -> 0
A14: 業務單位： | D14: 主(會)計單位： | F14: 首長：
A16: 填表說明： 一、「115年7月1日在職人數」：請依115年7月1日在職教師及編制內職員為填報基準，人數應與115年3月校庫一致，若不符請於備註欄說明，無須考慮於115年7月1日後發生之「年資晉薪」、「職級升等」、「新進、退休、離職、留職停薪、借調出/入、各類復職」等情況，不含研究人員。 (一)、私立大學校院請參考教育部大學校院校務資料庫教1. 專兼任教師(一般教師、專案教學人員、專業技術人員)及職1. 職技人員(編制內職員)之定義。 (二)、私立技專校院請參考教育部技專校院校務資料庫填表手冊表1-1教師基本資料表(一般教師、專案教學人員、專業技術人員、護理實習臨床指導教師)及表1-14職技資料表(編制內職員)之定義。 (三)、計算標準僅限會計科目「行政管理支出」、「教學研究及訓輔支出」項下支應之人事費用；高教深耕計畫及獎補助計畫聘任之專任教師且長期擔任教職可納入計算，高教深耕計畫或獎補助計畫聘任之職員請勿填入。 二、專案教師之每人報酬支給數額應以「本薪及學術研究加給」或「依聘約規定數額」列計；如採「依聘約規定數額」支給者，請將薪資拆列為本薪及學術研究加給兩部分填報。 三、學校如有調薪之護理實習臨床指導教師，請依實際薪資支給方式填報；如採一筆薪資支給者，請將薪資全數填列於本俸欄位；如係按本俸及學術研究加給支給者，請依實際支給情形分別填列學術研究加給。
A17: 四、項目：請依各sheet填報各項目之學校規定基準表及人數，如下說明。 (一)、「學術研究加給【助理教授以上】、學術研究加給【講師、助教及護理實習臨床指導教師】」：此二項欄位皆依sheet「專任教師－學術研究加給」計算。請依校內規定基準及預計在職教師填報sheet「專任教師－學術研究加給」，表格如不敷使用，請自行增列。 (二)、「主管加給【包含職員及專任教師】」：此欄位依sheet「編制內職員+專任教師－主管加給」計算。請依校內規定基準及學校所訂主管員額編制表（包含教師、編制內職員）填報sheet「編制內職員+專任教師－主管加給」，表格如不敷使用，請自行增列。 (三)、「編制內職員專業加給【不含主管加給】」：此欄位依sheet「 編制內職員 - 專業加給」加總計算。請依學校所訂職員員額編制表填報sheet「編制內職員 - 專業加給」，表格如不敷使用，請自行增列。
A18: 五、所需總經費計算方式：依115年7月1日教職員人數與薪級(點)，該教師/職員於之相同薪級(點)、職級學術研究加給所獲薪資總額，如下說明。 (一)、「115年」：請依學校實際調薪情況填報；調薪幅度若屬分級制，請於備註欄說明。若該項目未調薪，請於備註欄填寫「115年7月未調薪」。 1、「6月所需總經費(A)」：請依115年7月1日預計在職教職員人數與薪級(點)、115年6月校內規定基準表，所獲薪資總額，應與明細表加總相同。 2、「調薪後當月所需總經費(B)」：請依115年7月1日預計在職教職員人數與薪級(點)、115年調薪後校內規定基準表，推估所獲薪資總額，應與明細表加總相同。 3、「調薪月數總計(C)」：請依實際調薪總月數填報。 4、「調薪幅度(%)(D)」：定義為115年調薪後當月所需總經費(B)較115年6月所需總經費(A)之調升比率，故公式為(B-A)/A。 (二)、「調薪後增加之經費合計(E)」：依公式計算調薪後增加之經費合計，學校無須填報。 (三)、「每月補助金額(F)」：依公式計算調薪後增加之經費合計，學校無須填報，每人每月至多補助差額2000*70%。 (四)、「補助金額合計(G)」：依公式計算調薪後補助之經費合計，學校無須填報。

Sheet 專任教師－學術研究加給
A1: 學校規定基準表－專任＋專案教師－學術研究加給 | H1: 職級 | I1: 115年7月1日 在職人數 | J1: 專任＋專案教師－學術研究加給 所需總經費 ※依公式計算學校各年度所需總經費。
A2: 職級 | B2: 115年6月 | C2: 115年調薪後 | D2: 調薪前後差額 | E2: 每月補助金額 (至多補助差額2000*70%) | F2: 115年7月1日 在職人數 | J2: 115年6月 | K2: 115年調薪後 | L2: 每月補助金額 (至多補助差額2000*70%)
A3: 教授 | D3: =C3-B3 -> 0 | E3: =IF(D3>2000,2000*70%,D3*70%) -> 0 | H3: 教授 | I3: =F3 -> 0 | J3: =SUMPRODUCT($F3:$F5,B$3:B$5) -> 0 | K3: =SUMPRODUCT($F3:$F5,C$3:C$5) -> 0 | L3: =SUMPRODUCT($F3:$F5,E$3:E$5) -> 0
A4: 副教授 | D4: =C4-B4 -> 0 | E4: =IF(D4>2000,2000*70%,D4*70%) -> 0 | H4: 副教授 | I4: =F4 -> 0
A5: 助理教授 | D5: =C5-B5 -> 0 | E5: =IF(D5>2000,2000*70%,D5*70%) -> 0 | H5: 助理教授 | I5: =F5 -> 0
A6: 講師 | D6: =C6-B6 -> 0 | E6: =IF(D6>2000,2000*70%,D6*70%) -> 0 | H6: 講師 | I6: =F6 -> 0 | J6: =SUMPRODUCT($F6:$F8,B$6:B$8) -> 0 | K6: =SUMPRODUCT($F6:$F8,C$6:C$8) -> 0 | L6: =SUMPRODUCT($F6:$F8,E$6:E$8) -> 0
A7: 助教 | D7: =C7-B7 -> 0 | E7: =IF(D7>2000,2000*70%,D7*70%) -> 0 | H7: 助教 | I7: =F7 -> 0
A8: 護理實習臨床指導教師 | D8: =C8-B8 -> 0 | E8: =IF(D8>2000,2000*70%,D8*70%) -> 0 | H8: 護理實習臨床指導教師 | I8: =F8 -> 0

Sheet 編制內職員+專任教師－主管加給
A1: 學校規定基準表－編制內職員職員+專任教師－主管加給 | I1: 類型 | J1: 115年7月1日 在職人數 | K1: 編制內職員+專任教師－主管加給 所需總經費 ※依公式計算學校各年度所需總經費。
A2: 職稱 ※請依學校規定，自行調整。 | B2: 115年6月 | C2: 115年調薪後 | D2: 調薪前後差額 | E2: 每月補助金額 (至多補助差額2000*70%) | F2: 115年7月1日 在職人數 【專任+專案教師】 | G2: 115年7月1日 在職人數 【編制內職員】 | K2: 115年6月 | L2: 115年調薪後 | M2: 每月補助金額 (至多補助差額2000*70%)
D3: =C3-B3 -> 0 | E3: =IF(D3>2000,2000*70%,D3*70%) -> 0 | I3: 專任+專案教師 | J3: =SUM(F3:F100) -> 0 | K3: =SUMPRODUCT($F$3:$F$100,B$3:B$100) -> 0 | L3: =SUMPRODUCT($F$3:$F$100,C$3:C$100) -> 0 | M3: =SUMPRODUCT($F$3:$F$100,E$3:E$100) -> 0
D4: =C4-B4 -> 0 | E4: =IF(D4>2000,2000*70%,D4*70%) -> 0 | I4: 編制內職員 | J4: =SUM(G3:G100) -> 0 | K4: =SUMPRODUCT($G$3:$G$100,B$3:B$100) -> 0 | L4: =SUMPRODUCT($G$3:$G$100,C$3:C$100) -> 0 | M4: =SUMPRODUCT($G$3:$G$100,E$3:E$100) -> 0
D5: =C5-B5 -> 0 | E5: =IF(D5>2000,2000*70%,D5*70%) -> 0
D6: =C6-B6 -> 0 | E6: =IF(D6>2000,2000*70%,D6*70%) -> 0
D7: =C7-B7 -> 0 | E7: =IF(D7>2000,2000*70%,D7*70%) -> 0
D8: =C8-B8 -> 0 | E8: =IF(D8>2000,2000*70%,D8*70%) -> 0
D9: =C9-B9 -> 0 | E9: =IF(D9>2000,2000*70%,D9*70%) -> 0
D10: =C10-B10 -> 0 | E10: =IF(D10>2000,2000*70%,D10*70%) -> 0
D11: =C11-B11 -> 0 | E11: =IF(D11>2000,2000*70%,D11*70%) -> 0
D12: =C12-B12 -> 0 | E12: =IF(D12>2000,2000*70%,D12*70%) -> 0
D13: =C13-B13 -> 0 | E13: =IF(D13>2000,2000*70%,D13*70%) -> 0
D14: =C14-B14 -> 0 | E14: =IF(D14>2000,2000*70%,D14*70%) -> 0
D15: =C15-B15 -> 0 | E15: =IF(D15>2000,2000*70%,D15*70%) -> 0
D16: =C16-B16 -> 0 | E16: =IF(D16>2000,2000*70%,D16*70%) -> 0
... D20: =C20-B20 -> 0 | E20: =IF(D20>2000,2000*70%,D20*70%) -> 0

Sheet 編制內職員－專業加給
A1: 學校規定基準表－編制內職員－專業加給 | H1: 115年7月1日 在職人數 | I1: 編制內職員－專業加給 所需總經費 ※依公式計算學校各年度所需總經費。
A2: 職稱 ※請依學校規定，自行調整。 | B2: 115年6月 | C2: 115年調薪後 | D2: 調薪前後差額 | E2: 每月補助金額 (至多補助差額2000*70%) | F2: 115年7月1日 在職人數 | I2: 115年6月 | J2: 115年調薪後 | K2: 每月補助金額 (至多補助差額2000*70%)
D3: =C3-B3 -> 0 | E3: =IF(D3>2000,2000*70%,D3*70%) -> 0 | H3: =SUM(F3:F97) -> 0 | I3: =SUMPRODUCT($F$3:$F$97,B$3:B$97) -> 0 | J3: =SUMPRODUCT($F$3:$F$97,C$3:C$97) -> 0 | K3: =SUMPRODUCT($F$3:$F$97,E$3:E$97) -> 0
D4: =C4-B4 -> 0 | E4: =IF(D4>2000,2000*70%,D4*70%) -> 0
D5: =C5-B5 -> 0 | E5: =IF(D5>2000,2000*70%,D5*70%) -> 0
D6: =C6-B6 -> 0 | E6: =IF(D6>2000,2000*70%,D6*70%) -> 0
D7: =C7-B7 -> 0 | E7: =IF(D7>2000,2000*70%,D7*70%) -> 0
D8: =C8-B8 -> 0 | E8: =IF(D8>2000,2000*70%,D8*70%) -> 0
D9: =C9-B9 -> 0 | E9: =IF(D9>2000,2000*70%,D9*70%) -> 0
D10: =C10-B10 -> 0 | E10: =IF(D10>2000,2000*70%,D10*70%) -> 0
D11: =C11-B11 -> 0 | E11: =IF(D11>2000,2000*70%,D11*70%) -> 0
D12: =C12-B12 -> 0 | E12: =IF(D12>2000,2000*70%,D12*70%) -> 0
D13: =C13-B13 -> 0 | E13: =IF(D13>2000,2000*70%,D13*70%) -> 0
D14: =C14-B14 -> 0 | E14: =IF(D14>2000,2000*70%,D14*70%) -> 0
