Workbook

Sheet 封面
B2: 一、獎勵補助經費說明 | I2: 【附件∕附錄】
B3: 學校名稱 | I3: ="《"&目錄!A2&"》"&目錄!B2 -> 《附件一》資本門教學及研究設備執行表
B4: A.獎勵補助款核定金額 | C4: B.執行金額 | D4: C.自籌款 | E4: 自籌款比率［C/B，應≧10%］ | G4: 結餘款(A-B) | I4: ="《"&目錄!A3&"》"&目錄!B3 -> 《附件二》資本門圖書館自動化設備執行表
B5: 0 | C5: =C15+C27 -> 0 | D5: =E15+E27 -> 0 | E5: =IFERROR($D$5/$C$5,"--") -> -- | G5: =$B$5-$C$5 -> 0 | I5: ="《"&目錄!A4&"》"&目錄!B4 -> 《附件三》資本門圖書期刊、教學媒體相關資源執行表
B6: ※獎勵補助經費若有結餘款，應依規定繳回未執行完竣之經費，並於《附錄一》說明產生結餘款之具體原因。 | I6: ="《"&目錄!A5&"》"&目錄!B5 -> 《附件四》資本門學生事務及輔導相關設備執行表
B7: 二、資本門 | I7: ="《"&目錄!A6&"》"&目錄!B6 -> 《附件五》資本門其他設施及重大修繕維護工程執行表
C8: 獎勵補助款 | E8: 自籌款 | G8: 備註 | I8: ="《"&目錄!A7&"》"&目錄!B7 -> 《附件六》經常門經費執行彙整表
C9: 金額 | D9: 比率 | E9: 金額 | F9: 比率 | I9: ="《"&目錄!A8&"》"&目錄!B8 -> 《附件六之(一)》改善教學、教師薪資及師資結構執行表
B10: 1.教學及研究設備 | C10: =附件一!R14 -> 0 | D10: =IFERROR(C10/$C$15,"--") -> -- | E10: =附件一!S14 -> 0 | F10: =IFERROR(E10/$E$15,"--") -> -- | I10: ="《"&目錄!A18&"》"&目錄!B18 -> 《附件六之(二)》學生事務及輔導相關工作經費執行表
B11: 2.圖書館自動化、圖書期刊等 | C11: =附件二!R14+附件三!M14 -> 0 | D11: =IFERROR(C11/$C$15,"--") -> -- | E11: =附件二!S14+附件三!N14 -> 0 | F11: =IFERROR(E11/$E$15,"--") -> -- | I11: ="《"&目錄!A22&"》"&目錄!B22 -> 《附件六之(三)》行政人員相關業務研習及進修執行表
B12: 3.學輔相關設備 | C12: =附件四!R14 -> 0 | D12: =IFERROR(C12/$C$15,"--") -> -- | E12: =附件四!S14 -> 0 | F12: =IFERROR(E12/$E$15,"--") -> -- | G12: 獎勵補助款比率應≧2% | I12: ="《"&目錄!A26&"》"&目錄!B26 -> 《附件六之(四)》改善教學相關物品執行表
B13: 4.其他設施 | D13: =IFERROR(C13/$C$15,"--") -> -- | F13: =IFERROR(E13/$E$15,"--") -> -- | I13: ="《"&目錄!A27&"》"&目錄!B27 -> 《附件六之(五)》授權年限在2年以下之電子資料庫及軟體執行表
B14: 5.重大修繕維護工程 | D14: =IFERROR(C14/$C$15,"--") -> -- | F14: =IFERROR(E14/$E$15,"--") -> -- | G14: 獲核准者得於50%內勻支 | I14: ="《"&目錄!A28&"》"&目錄!B28 -> 《附件六之(六)》冷氣設施維護費及多元生理用品執行表
B15: 合計 | C15: =SUM(C10:C14) -> 0 | D15: 1 | E15: =SUM(E10:E14) -> 0 | F15: 1 | I15: ="《"&目錄!A29&"》"&目錄!B29 -> 《附件六之(七)》學生留用合作機構獎勵經費執行表
B16: 資本門獎勵補助款占總獎勵補助款比率 | D16: =$C$15/$C$5 -> #DIV/0! | G16: 應依核定金額執行 | I16: ="《"&目錄!A30&"》"&目錄!B30 -> 《附錄一》獎勵補助經費結餘款說明
I17: ="《"&目錄!A31&"》"&目錄!B31 -> 《附錄二》經費運用結合辦學特色與在地產業鏈結成果
B18: 三、經常門 | I18: ="《"&目錄!A32&"》"&目錄!B32 -> 《附錄三》運用校務研究驅動校務治理成效
C19: 獎勵補助款 | E19: 自籌款 | G19: 備註
C20: 金額 | D20: 比率 | E20: 金額 | F20: 比率 | I20: 【注意事項】
B21: 1.改善教學、教師薪資及師資結構 | C21: =附件六!F22 -> 0 | D21: =IFERROR(C21/$C$27,"--") -> -- | E21: =附件六!H22 -> 0 | F21: =IFERROR(E21/$E$27,"--") -> -- | G21: 獎勵補助款比率應≧60%，其中教師薪資經費（彈性薪資除外）占本項比率應≦60% | I21: (1) | J21: 學校應將本獎勵補助經費執行清冊、會議紀錄（包括專責小組會議紀錄及簽到單、公開招標紀錄及簽到單）及修正支用計畫書（包括經費表）彙整書面報告1份，送交內部專兼任稽核人員進行專案查核，並出具稽核報告。
B22: 2.學輔相關工作經費 | C22: =附件六!F26 -> 0 | D22: =IFERROR(C22/$C$27,"--") -> -- | E22: =附件六!H26 -> 0 | F22: =IFERROR(E22/$E$27,"--") -> -- | G22: 獎勵補助款比率應≧2% | I22: (2) | J22: 學校應於次年2月28日前，將最近一學年度之會計師查核報告（包括平衡表、收支餘絀表、現金流量表及財務報表附註）、本獎勵補助經費執行清冊、會議紀錄（包括專責小組會議紀錄及簽到單、公開招標紀錄及簽到單）、稽核報告（包括期中稽核紀錄）及修正支用計畫書（包括經費表）等資料上傳至學校網站後備文報部（附執行清冊用印封面，毋須再將其他紙本資料報部），並繳回當年度結餘款，俾便考核運用成效。同份資料應公告於學校網站，未公告上網之學校，減計獎勵補助經費。
B23: 3.行政人員相關業務研習及進修 | C23: =附件六!F29 -> 0 | D23: =IFERROR(C23/$C$27,"--") -> -- | E23: =附件六!H29 -> 0 | F23: =IFERROR(E23/$E$27,"--") -> -- | G23: 獎勵補助款比率應≦5%
B24: 4.改善教學相關物品 | C24: =附件六!F34 -> 0 | D24: =IFERROR(C24/$C$27,"--") -> -- | E24: =附件六!H34 -> 0 | F24: =IFERROR(E24/$E$27,"--") -> --
B25: 5.其他 | C25: =附件六!F40 -> 0 | D25: =IFERROR(C25/$C$27,"--") -> -- | E25: =附件六!H40 -> 0 | F25: =IFERROR(E25/$E$27,"--") -> --
B26: 6.學生留用合作機構獎勵經費 | C26: =附件六!F43 -> 0 | D26: =IFERROR(C26/$C$27,"--") -> -- | E26: =附件六!H43 -> 0 | F26: =IFERROR(E26/$E$27,"--") -> --
B27: 合計 | C27: =SUM(C21:C26) -> 0 | D27: 1 | E27: =SUM(E21:E26) -> 0 | F27: 1 | I27: (3) | J27: 獎勵補助經費應於當年度全數執行完竣，其所稱執行完竣，指已完成核銷並付款。未執行完竣者，應於11月30日前，敘明原因報部核准後，始得展延；其未申請或申請未經核准者，應繳回未執行完竣之經費。
B28: 經常門獎勵補助款占總獎勵補助款比率 | D28: =$C$27/$C$5 -> #DIV/0! | G28: 應依核定金額執行
I30: (4) | J30: 獎勵補助經費在12月31日前，尚未發生債務關係或契約責任者，應即停止支用，其已發生之債務關係或契約責任者（已於12月31日前驗收完成並做應付傳票），應於次年1月15日截止支付。
B31: 學校名稱 (請加蓋學校關防) | C31: 校長簽章 | E31: 填表單位 | F31: 單位主管簽章 | G31: 填表日期
I32: (5) | J32: 請將執行清冊依序排列裝訂成冊、編製目錄，並加蓋關防。
I33: (6) | J33: 因教育資源不足地區獲得增加補助經費之學校，須填列《附錄二》經費運用結合辦學特色與在地產業鏈結成果，未獲補助者毋須填寫。
I35: (7) | J35: 依核定函文應編列執行校務研究（IR）推動經費之學校，須填列《附錄三》運用校務研究驅動校務治理成效。

Sheet 目錄
A1: 資料名稱 | C1: 頁碼
A2: 附件一 | B2: 資本門教學及研究設備執行表
A3: 附件二 | B3: 資本門圖書館自動化設備執行表
A4: 附件三 | B4: 資本門圖書期刊、教學媒體相關資源執行表
A5: 附件四 | B5: 資本門學生事務及輔導相關設備執行表
A6: 附件五 | B6: 資本門其他設施及重大修繕維護工程執行表
A7: 附件六 | B7: 經常門經費執行彙整表
A8: 附件六之(一) | B8: 改善教學、教師薪資及師資結構執行表
B9: 一、新聘（3年內）專任教師薪資
B10: 二、提高現職專任教師薪資
B11: 三、現職專任教師彈性薪資
B12: 四、推動實務教學
B13: 五、研究
B14: 六、研習
B15: 七、進修
B16: 八、升等
B17: 九、學校自辦研習活動
A18: 附件六之(二) | B18: 學生事務及輔導相關工作經費執行表
B19: 一、外聘社團指導教師之鐘點費
B20: 二、學生事務及輔導相關物品
B21: 三、其他學輔相關工作經費執行成效表
A22: 附件六之(三) | B22: 行政人員相關業務研習及進修執行表
B23: 一、行政人員進修
B24: 二、行政人員業務研習
B25: 三、學校自辦行政研習活動
A26: 附件六之(四) | B26: 改善教學相關物品執行表
A27: 附件六之(五) | B27: 授權年限在2年以下之電子資料庫及軟體執行表
A28: 附件六之(六) | B28: 冷氣設施維護費及多元生理用品執行表
A29: 附件六之(七) | B29: 學生留用合作機構獎勵經費執行表
A30: 附錄一 | B30: 獎勵補助經費結餘款說明
A31: 附錄二 | B31: 經費運用結合辦學特色與在地產業鏈結成果
A32: 附錄三 | B32: 運用校務研究驅動校務治理成效
A34: 註： | B34: 如有非屬於上列項目之執行結果，請參酌類似性質之表單欄位格式，自行增列所需表單。

Sheet 附件一
A1: 優先序 | B1: 項目名稱 | C1: 財產編號 | D1: 廠牌 註1 | E1: 型號 註1 | F1: 規格 | G1: 數量 | H1: 單位 | I1: 單價 | J1: 總價 | K1: 用途說明 | L1: 使用單位 | M1: 使用年限 | N1: 放置地點 (請註明教室及所在大樓) | O1: 驗收完成日 註2 | P1: 付款完成日 註3 | Q1: 公開招標 | R1: 經費來源 註4 | T1: 備註
Q2: 限制性招標 | R2: 獎勵補助款金額 | S2: 自籌(配合)款金額
Q3: (請註明)
A14: 合計 | J14: =SUM(J4:J13) -> 0 | R14: =SUM(R4:R13) -> 0 | S14: =SUM(S4:S13) -> 0
A16: 註1： | B16: 依《教育部獎補助款支出憑證免送審配合作業相關事項》第9點規定，設備購置清冊應將細項廠牌規格、型號等註明清楚。若屬於訂製品，其「型號」請填寫訂製品，並於「廠牌」載明承製廠商名稱。
A17: 註2： | B17: 圖儀設備採購如採分期驗收，以最後一次驗收日期為驗收完成日。另驗收作業雖未分期辦理，但學校於驗收時發現問題請廠商補正，則以所有功能確認無誤之驗收日期為驗收完成日。
A18: 註3： | B18: 「付款完成日」請填實際撥付款項日期－以實際轉帳日或支票到期日為認定基準，作成轉帳或付款傳票不屬於付款完成。如係分期撥付，以最後一次付款日期為付款完成日。
A19: 註4： | B19: 若所購置之設備除以獎勵補助款及自籌款支應外，另包含其他經費來源（如高教深耕計畫、國科會計畫...等），請於備註欄註記說明。

Sheet 附件二
A1: 優先序 | B1: 項目名稱 | C1: 財產編號 | D1: 廠牌 註1 | E1: 型號 註1 | F1: 規格 | G1: 數量 | H1: 單位 | I1: 單價 | J1: 總價 | K1: 用途說明 | L1: 使用單位 | M1: 使用年限 | N1: 放置地點 (請註明教室及所在大樓) | O1: 驗收完成日 註2 | P1: 付款完成日 註3 | Q1: 公開招標 | R1: 經費來源 註4 | T1: 備註
Q2: 限制性招標 | R2: 獎勵補助款金額 | S2: 自籌(配合)款金額
Q3: (請註明)
A14: 合計 | J14: =SUM(J4:J13) -> 0 | R14: =SUM(R4:R13) -> 0 | S14: =SUM(S4:S13) -> 0
A16: 註1： | B16: 依《教育部獎補助款支出憑證免送審配合作業相關事項》第9點規定，設備購置清冊應將細項廠牌規格、型號等註明清楚。若屬於訂製品，其「型號」請填寫訂製品，並於「廠牌」載明承製廠商名稱。
A17: 註2： | B17: 圖儀設備採購如採分期驗收，以最後一次驗收日期為驗收完成日。另驗收作業雖未分期辦理，但學校於驗收時發現問題請廠商補正，則以所有功能確認無誤之驗收日期為驗收完成日。
A18: 註3： | B18: 「付款完成日」請填實際撥付款項日期－以實際轉帳日或支票到期日為認定基準，作成轉帳或付款傳票不屬於付款完成。如係分期撥付，以最後一次付款日期為付款完成日。
A19: 註4： | B19: 若所購置之設備除以獎勵補助款及自籌款支應外，另包含其他經費來源（如高教深耕計畫、國科會計畫...等），請於備註欄註記說明。

Sheet 附件三
A1: 優先序 | B1: 資料類型 (請由下拉式選單中選取) | C1: 項目內容 | D1: 冊數/ 種類數 | E1: 總價 | F1: 用途說明 | G1: 使用年限 | H1: 保管單位 | I1: 保管地點 | J1: 驗收完成日 註1 | K1: 付款完成日 註2 | L1: 公開招標 | M1: 經費來源 註3 | O1: 備註
L2: 限制性招標 | M2: 獎勵補助款金額 | N2: 自籌(配合)款金額
L3: (請註明)
A14: 合計 | E14: =SUM(E4:E13) -> 0 | M14: =SUM(M4:M13) -> 0 | N14: =SUM(N4:N13) -> 0
A16: 註1： | B16: 圖儀設備採購如採分期驗收，以最後一次驗收日期為驗收完成日。另驗收作業雖未分期辦理，但學校於驗收時發現問題請廠商補正，則以所有功能確認無誤之驗收日期為驗收完成日。
A17: 註2： | B17: 「付款完成日」請填實際撥付款項日期－以實際轉帳日或支票到期日為認定基準，作成轉帳或付款傳票不屬於付款完成。如係分期撥付，以最後一次付款日期為付款完成日。
A18: 註3： | B18: 若所購置之設備除以獎勵補助款及自籌款支應外，另包含其他經費來源（如高教深耕計畫、國科會計畫...等），請於備註欄註記說明。

Sheet 附件四
A1: 優先序 | B1: 項目名稱 | C1: 財產編號 | D1: 廠牌 註1 | E1: 型號 註1 | F1: 規格 | G1: 數量 | H1: 單位 | I1: 單價 | J1: 總價 | K1: 用途說明 | L1: 使用社團 | M1: 使用年限 | N1: 放置地點 (請註明教室及所在大樓) | O1: 驗收完成日 註2 | P1: 付款完成日 註3 | Q1: 公開招標 | R1: 經費來源 註4 | T1: 備註
Q2: 限制性招標 | R2: 獎勵補助款金額 | S2: 自籌(配合)款金額
Q3: (請註明)
A14: 合計 | J14: =SUM(J4:J13) -> 0 | R14: =SUM(R4:R13) -> 0 | S14: =SUM(S4:S13) -> 0
A16: 註1： | B16: 依《教育部獎補助款支出憑證免送審配合作業相關事項》第9點規定，設備購置清冊應將細項廠牌規格、型號等註明清楚。若屬於訂製品，其「型號」請填寫訂製品，並於「廠牌」載明承製廠商名稱。
A17: 註2： | B17: 圖儀設備採購如採分期驗收，以最後一次驗收日期為驗收完成日。另驗收作業雖未分期辦理，但學校於驗收時發現問題請廠商補正，則以所有功能確認無誤之驗收日期為驗收完成日。
A18: 註3： | B18: 「付款完成日」請填實際撥付款項日期－以實際轉帳日或支票到期日為認定基準，作成轉帳或付款傳票不屬於付款完成。如係分期撥付，以最後一次付款日期為付款完成日。
A19: 註4： | B19: 若所購置之設備除以獎勵補助款及自籌款支應外，另包含其他經費來源（如高教深耕計畫、國科會計畫...等），請於備註欄註記說明。

Sheet 附件五
A1: 優先序 | B1: 設備類別 (請由下拉式選單中選取) | C1: 項目名稱 | D1: 財產編號 | E1: 廠牌 註1 | F1: 型號 註1 | G1: 規格 | H1: 數量 | I1: 單位 | J1: 單價 | K1: 總價 | L1: 用途說明 | M1: 使用單位 | N1: 使用年限 | O1: 放置地點 (請註明教室及所在大樓) | P1: 驗收完成日 註2 | Q1: 付款完成日 註3 | R1: 公開招標 | S1: 經費來源 註4 | U1: 備註 註5
R2: 限制性招標 | S2: 獎勵補助款金額 | T2: 自籌(配合)款金額
R3: (請註明)
A14: 合計 | K14: =SUM(K4:K13) -> 0 | S14: =SUM(S4:S13) -> 0 | T14: =SUM(T4:T13) -> 0
A16: 註1： | B16: 依《教育部獎補助款支出憑證免送審配合作業相關事項》第9點規定，設備購置清冊應將細項廠牌規格、型號等註明清楚。若屬於訂製品，其「型號」請填寫訂製品，並於「廠牌」載明承製廠商名稱。
A17: 註2： | B17: 圖儀設備採購如採分期驗收，以最後一次驗收日期為驗收完成日。另驗收作業雖未分期辦理，但學校於驗收時發現問題請廠商補正，則以所有功能確認無誤之驗收日期為驗收完成日。
A18: 註3： | B18: 「付款完成日」請填實際撥付款項日期－以實際轉帳日或支票到期日為認定基準，作成轉帳或付款傳票不屬於付款完成。如係分期撥付，以最後一次付款日期為付款完成日。
A19: 註4： | B19: 若所購置之設備除以獎勵補助款及自籌款支應外，另包含其他經費來源（如高教深耕計畫、國科會計畫...等），請於備註欄註記說明。
A20: 註5： | B20: 若以獎勵補助款支應重大修繕維護工程款項，請於備註欄註記教育部核准文號。

Sheet 附件六
A1: 經常門經費總計 | B1: =SUM(F1,I1) -> 0 | E1: 獎勵補助款 | F1: =SUM(F22,F26,F29,F34,F40,F43) -> 0 | H1: 自籌款 | I1: =SUM(H22,H26,H29,H34,H40,H43) -> 0
A3: 支用項目 | D3: 執行成果件數 | F3: 獎勵補助款 | H3: 自籌款 | J3: 獎勵補助款 +自籌款小計
D4: 數量 | E4: 單位 | F4: 金額 | G4: 比率 | H4: 金額 | I4: 比率
A5: 改善教學、教師薪資及師資結構註1 | B5: 新聘（3年內）專任教師薪資註2 | C5: 教授 | D5: 0 | E5: 人 | F5: 0 | G5: =IFERROR(F5/$F$1,"--") -> -- | H5: 0 | I5: =IFERROR(H5/$I$1,"--") -> -- | J5: =SUM(F22,H22) -> 0
C6: 副教授 | D6: 0 | E6: 人 | F6: 0 | G6: =IFERROR(F6/$F$1,"--") -> -- | H6: 0 | I6: =IFERROR(H6/$I$1,"--") -> --
C7: 助理教授 | D7: 0 | E7: 人 | F7: 0 | G7: =IFERROR(F7/$F$1,"--") -> -- | H7: 0 | I7: =IFERROR(H7/$I$1,"--") -> --
C8: 講師 | D8: 0 | E8: 人 | F8: 0 | G8: =IFERROR(F8/$F$1,"--") -> -- | H8: 0 | I8: =IFERROR(H8/$I$1,"--") -> --
B9: 提高現職專任教師薪資註3 補助人數及金額彙整於本表，明細填列於「調薪差額補助」成果報告（請勿將調薪差額補助人數及金額併入本表） | C9: 教授 | D9: 0 | E9: 人 | F9: 0 | G9: =IFERROR(F9/$F$1,"--") -> -- | H9: 0 | I9: =IFERROR(H9/$I$1,"--") -> --
C10: 副教授 | D10: 0 | E10: 人 | F10: 0 | G10: =IFERROR(F10/$F$1,"--") -> -- | H10: 0 | I10: =IFERROR(H10/$I$1,"--") -> --
C11: 助理教授 | D11: 0 | E11: 人 | F11: 0 | G11: =IFERROR(F11/$F$1,"--") -> -- | H11: 0 | I11: =IFERROR(H11/$I$1,"--") -> --
C12: 講師 | D12: 0 | E12: 人 | F12: 0 | G12: =IFERROR(F12/$F$1,"--") -> -- | H12: 0 | I12: =IFERROR(H12/$I$1,"--") -> --
B13: 現職專任教師彈性薪資註3 | C13: 教授 | D13: 0 | E13: 人 | F13: 0 | G13: =IFERROR(F13/$F$1,"--") -> -- | H13: 0 | I13: =IFERROR(H13/$I$1,"--") -> --
C14: 副教授 | D14: 0 | E14: 人 | F14: 0 | G14: =IFERROR(F14/$F$1,"--") -> -- | H14: 0 | I14: =IFERROR(H14/$I$1,"--") -> --
C15: 助理教授 | D15: 0 | E15: 人 | F15: 0 | G15: =IFERROR(F15/$F$1,"--") -> -- | H15: 0 | I15: =IFERROR(H15/$I$1,"--") -> --
C16: 講師 | D16: 0 | E16: 人 | F16: 0 | G16: =IFERROR(F16/$F$1,"--") -> -- | H16: 0 | I16: =IFERROR(H16/$I$1,"--") -> --
B17: 推動實務教學 | D17: 0 | E17: 案 | F17: 0 | G17: =IFERROR(F17/$F$1,"--") -> -- | H17: 0 | I17: =IFERROR(H17/$I$1,"--") -> --
B18: 研究 | D18: 0 | E18: 案 | F18: 0 | G18: =IFERROR(F18/$F$1,"--") -> -- | H18: 0 | I18: =IFERROR(H18/$I$1,"--") -> --
B19: 研習 | D19: 0 | E19: 案 | F19: 0 | G19: =IFERROR(F19/$F$1,"--") -> -- | H19: 0 | I19: =IFERROR(H19/$I$1,"--") -> --
B20: 進修 | D20: 0 | E20: 人 | F20: 0 | G20: =IFERROR(F20/$F$1,"--") -> -- | H20: 0 | I20: =IFERROR(H20/$I$1,"--") -> --
B21: 升等 | D21: 0 | E21: 人 | F21: 0 | G21: =IFERROR(F21/$F$1,"--") -> -- | H21: 0 | I21: =IFERROR(H21/$I$1,"--") -> --
B22: 小計 | F22: =SUM(F5:F21) -> 0 | G22: =IFERROR(F22/$F$1,"--") -> -- | H22: =SUM(H5:H21) -> 0 | I22: =IFERROR(H22/$I$1,"--") -> --
A23: 學生事務及輔導 相關工作 | B23: 外聘社團指導教師鐘點費註4 | D23: 0 | E23: 人 | F23: 0 | G23: =IFERROR(F23/$F$1,"--") -> -- | H23: 0 | I23: =IFERROR(H23/$I$1,"--") -> -- | J23: =SUM(F26,H26) -> 0
B24: 學輔相關物品註5 | D24: 0 | E24: 項 | F24: 0 | G24: =IFERROR(F24/$F$1,"--") -> -- | H24: 0 | I24: =IFERROR(H24/$I$1,"--") -> --
B25: 其他學輔工作經費 | D25: 0 | E25: 案 | F25: 0 | G25: =IFERROR(F25/$F$1,"--") -> -- | H25: 0 | I25: =IFERROR(H25/$I$1,"--") -> --
B26: 小計 | F26: =SUM(F23:F25) -> 0 | G26: =IFERROR(F26/$F$1,"--") -> -- | H26: =SUM(H23:H25) -> 0 | I26: =IFERROR(H26/$I$1,"--") -> --
A27: 行政人員業務 研習及進修 | B27: 進修 | D27: 0 | E27: 人 | F27: 0 | G27: =IFERROR(F27/$F$1,"--") -> -- | H27: 0 | I27: =IFERROR(H27/$I$1,"--") -> -- | J27: =SUM(F29,H29) -> 0
B28: 研習 | D28: 0 | E28: 案 | F28: 0 | G28: =IFERROR(F28/$F$1,"--") -> -- | H28: 0 | I28: =IFERROR(H28/$I$1,"--") -> --
B29: 小計 | F29: =SUM(F27:F28) -> 0 | G29: =IFERROR(F29/$F$1,"--") -> -- | H29: =SUM(H27:H28) -> 0 | I29: =IFERROR(H29/$I$1,"--") -> --
A30: 改善教學相關物品 (單價1萬元以下之非消耗品) | B30: 資訊器材 | D30: 0 | E30: 項 | F30: 0 | G30: =IFERROR(F30/$F$1,"--") -> -- | H30: 0 | I30: =IFERROR(H30/$I$1,"--") -> -- | J30: =SUM(F34,H34) -> 0
B31: 實習實驗物品 | D31: 0 | E31: 項 | F31: 0 | G31: =IFERROR(F31/$F$1,"--") -> -- | H31: 0 | I31: =IFERROR(H31/$I$1,"--") -> --
B32: 專業教室物品 | D32: 0 | E32: 項 | F32: 0 | G32: =IFERROR(F32/$F$1,"--") -> -- | H32: 0 | I32: =IFERROR(H32/$I$1,"--") -> --
B33: 其他非消耗品 | D33: 0 | E33: 項 | F33: 0 | G33: =IFERROR(F33/$F$1,"--") -> -- | H33: 0 | I33: =IFERROR(H33/$I$1,"--") -> --
B34: 小計 | F34: =SUM(F30:F33) -> 0 | G34: =IFERROR(F34/$F$1,"--") -> -- | H34: =SUM(H30:H33) -> 0 | I34: =IFERROR(H34/$I$1,"--") -> --
A35: 其他 | B35: 資料庫訂閱費註6 | D35: 0 | E35: 項 | F35: 0 | G35: =IFERROR(F35/$F$1,"--") -> -- | H35: 0 | I35: =IFERROR(H35/$I$1,"--") -> -- | J35: =SUM(F40,H40) -> 0
B36: 軟體訂購費註6 | D36: 0 | E36: 項 | F36: 0 | G36: =IFERROR(F36/$F$1,"--") -> -- | H36: 0 | I36: =IFERROR(H36/$I$1,"--") -> --
B37: 冷氣設施維護費註6 | D37: 0 | E37: 項 | F37: 0 | G37: =IFERROR(F37/$F$1,"--") -> -- | H37: 0 | I37: =IFERROR(H37/$I$1,"--") -> --
B38: 多元生理用品註6 | D38: 0 | E38: 項 | F38: 0 | G38: =IFERROR(F38/$F$1,"--") -> -- | H38: 0 | I38: =IFERROR(H38/$I$1,"--") -> --
B39: 其他註7 | D39: 0 | F39: 0 | G39: =IFERROR(F39/$F$1,"--") -> -- | H39: 0 | I39: =IFERROR(H39/$I$1,"--") -> --
B40: 小計 | F40: =SUM(F35:F39) -> 0 | G40: =IFERROR(F40/$F$1,"--") -> -- | H40: =SUM(H35:H39) -> 0 | I40: =IFERROR(H40/$I$1,"--") -> --
A41: 學生留用合作機構獎勵經費註8 | B41: 系所運作所需經費 | D41: 0 | E41: 案 | F41: 0 | G41: =IFERROR(F41/$F$1,"--") -> -- | H41: 0 | I41: =IFERROR(H41/$I$1,"--") -> -- | J41: =SUM(F43,H43) -> 0
B42: 非消耗品或消耗用品 | D42: 0 | E42: 項 | F42: 0 | G42: =IFERROR(F42/$F$1,"--") -> -- | H42: 0 | I42: =IFERROR(H42/$I$1,"--") -> --
B43: 小計 | F43: =SUM(F41:F42) -> 0 | G43: =IFERROR(F43/$F$1,"--") -> -- | H43: =SUM(H41:H42) -> 0 | I43: =IFERROR(H43/$I$1,"--") -> --
A45: 註1： | B45: 獎勵補助經費經常門應優先保留60%以上供作「改善教學、教師薪資及師資結構」所需，其中使用於教師薪資經費（彈性薪資除外）不得超過本項經費總和之60%。接受補助之教師實際授課時數不得為零，惟校長不得接受各項補助。
A46: 註2： | B46: 新聘（3年內）專任教師薪資：補助對象不得為年滿65歲以上或公立學校、政府機關退休至私校服務之教師，其薪資應由學校其他經費支付。
A47: 註3： | B47: 提高現職專任教師待遇所需經費：包括比照115年中央政府調整軍公教人員待遇、公立大專校院教師學術研究加給標準所提高之現職專任教師薪資所需經費及彈性薪資，補助對象不得為年滿65歲以上或公立學校、政府機關退休至私立學校服務之教師。
A48: 註4： | B48: 經常門獎勵補助經費用於辦理學生事務及輔導相關工作，其中至多1/4得用於部分外聘社團指導教師之鐘點費。
A49: 註5： | B49: 依《教育部獎補助私立大專校院學生事務與輔導工作經費及學校配合款實施要點》附表之使用說明D2，經常門得購置學生社團活動所需單價在1萬元以下或使用年限在2年以下之物品或非消耗品。
A50: 註6： | B50: 授權使用年限在2年以下之電子資料庫及軟體訂購費用、冷氣設施維護費用（學校定期進行清洗與檢查相關費用）及校園內提供多元生理用品所需費用，得由經常門其他項下支應。
A51: 註7： | B51: 為保障專科以上學校學生擔任兼任助理之學習及勞動權益，各校依教育部107年11月20日臺教高(五)字第1070196432號函《專科以上學校獎助生權益保障指導原則》、113年3月11日臺教高(五)字第1132200190A號令《教育部補助大專校院辦理教學助理納保作業要點》認定校內兼任助理係屬學習關係或僱傭關係，並依學習或僱傭等不同關係設計相關配套措施（包含各項權利義務關係）者，如有符合上開處理原則有關勞僱型助理之薪資及勞健保等相關費用之需求（參技專校院校務資料庫，表7-7獎助生及勞僱型學生兼任助理人數及經費統計表、表7-8勞僱型學生兼任助理之雇主負擔經費來源），得列入經常門「其他」項下。
A52: 註8： | B52: 已申請提升學生留用合作機構成效獎勵經費並獲核定之學校，所獲核定之經費僅限用於執行113年度「產業實務人才培育專班」之系所。
A53: 註9： | B53: 經常門獎勵補助經費不得用於校內人員出席費、稿費、審查費、工作費、主持費、引言費、諮詢費、訪視費及評鑑費等相關酬勞。

Sheet 附件六之(一A)
A1: 一、新聘（3年內）專任教師薪資註1、註3
A2: 序號 | B2: 教師姓名 | C2: 系所/職級 | E2: 教師證書字號 | G2: 到職日 | I2: 每月 獎助金額 | J2: 獎助月份 | K2: 合計獎助金額 | M2: 傳票日期 | N2: 付款完成日 註4 | O2: 原始憑證冊编號 | P2: 經費來源 | R2: 備註
P3: 獎勵補助款金額 | Q3: 自籌(配合)款金額
A13: 小計 | K13: =SUM(K4:L12) -> 0 | P13: =SUM(P4:P12) -> 0 | Q13: =SUM(Q4:Q12) -> 0
A15: 二、提高現職專任教師薪資註2、註3、註5
A16: 序號 | B16: 教師姓名 | C16: 系所/職級 | D16: 教師證書字號 | E16: 到職日 | F16: 調薪基準年 | H16: 月支數額 | J16: 每月 獎助金額 (B-A) | K16: 獎助月份 | L16: 合計 獎助金額 | M16: 傳票日期 | N16: 付款完成日 | O16: 原始憑證冊编號 | P16: 經費來源 | R16: 備註
F17: 調整前 | G17: 調整後 | H17: 調整前 (A) | I17: 調整後 (B) | P17: 獎勵補助款金額 | Q17: 自籌(配合)款金額
A27: 小計 | L27: =SUM(L18:L26) -> 0 | P27: =SUM(P18:P26) -> 0 | Q27: =SUM(Q18:Q26) -> 0
A29: 三、現職專任教師彈性薪資註2
A30: 序號 | B30: 教師姓名 | C30: 系所/職級 | D30: 教師證書字號 | E30: 到職日 | F30: 每月 獎助金額 | G30: 獎助月份 | H30: 合計獎助金額 | I30: 校定辦法條文依據(須載明該辦法經本部核定之文號) | K30: 終審機制及審查通過日期註6 | M30: 傳票日期 | N30: 付款完成日 註4 | O30: 原始憑證冊编號 | P30: 經費來源 | R30: 備註
P31: 獎勵補助款金額 | Q31: 自籌(配合)款金額
A41: 小計 | H41: =SUM(H32:H40) -> 0 | P41: =SUM(P32:P40) -> 0 | Q41: =SUM(Q32:Q40) -> 0
A43: 註1： | B43: 「新聘專任教師薪資」自起聘日計算，3年內均屬新聘；亦即如於112年8月新聘，則至115年7月前均屬3年內新聘專任教師。補助對象不得為年滿65歲以上或公立學校、政府機關退休至私立學校服務之教師，其薪資應由學校其他經費支付；其中於民國115年滿65歲以上係指民國50年1月1日前出生者。
A44: 註2： | B44: 提高現職專任教師待遇所需經費：包括比照115年中央政府調整軍公教人員待遇、公立大專校院教師學術研究加給標準所提高之現職專任教師薪資所需經費及彈性薪資，補助對象不得為年滿65歲以上或公立學校、政府機關退休至私立學校服務之教師。
A45: 註3： | B45: 使用於教師薪資經費（彈性薪資除外）不得超過「改善教學、教師薪資及師資結構」經費總和之60%。
A46: 註4： | B46: 「付款完成日」請填實際撥付款項日期－以實際轉帳日或支票到期日為認定基準，作成轉帳或付款傳票不屬於付款完成。
A47: 註5： | B47: 「提高現職專任教師薪資」之「調薪基準年」比照當年度「調薪差額補助」經費辦理，惟不得重複補助。
A48: 註6： | B48: 「終審機制及審查通過日期」請依學校辦法訂定之終審程序填寫。如學校辦法規定之最終審查程序係由校長簽核，則填校長核准簽呈日（如115.7.15校長簽呈核准）；如學校辦法規定之最終審查程序為校教評會通過，則填寫會議通過日期（如115.6.2校教評會）。
A49: 註7： | B49: 接受補助之教師實際授課時數不得為零，惟校長不得接受各項補助。

Sheet 附件六之(一B)
A1: 四、推動實務教學
A2: 序號 | B2: 教師姓名 | C2: 系所/職級 | D2: 教師證書字號 | E2: 到職日 | F2: 接受獎助事實摘要 (如配合課程、計畫名稱等具體內容) | J2: 獎助金額 | K2: 校定辦法條文依據 | L2: 終審機制及審查通過日期註1 | M2: 存校具體成果資料(請填成果名稱)註2 | N2: 傳票日期 | O2: 付款完成日 註3 | P2: 原始憑證冊編號 | Q2: 經費來源 | S2: 備註
Q3: 獎勵補助款金額 | R3: 自籌(配合)款金額
A16: 小計 | J16: =SUM(J4:J15) -> 0 | Q16: =SUM(Q4:Q15) -> 0 | R16: =SUM(R4:R15) -> 0
A18: 五、研究
A19: 序號 | B19: 教師姓名 | C19: 系所/職級 | D19: 教師證書字號 | E19: 到職日 | F19: 接受獎助事實摘要 | J19: 獎助金額 | K19: 校定辦法條文依據 | L19: 終審機制及審查通過日期註1 | M19: 存校具體成果資料(請填成果名稱)註2 | N19: 傳票日期 | O19: 付款完成日 註3 | P19: 原始憑證冊編號 | Q19: 經費來源 | S19: 備註
F20: 計畫名稱 | H20: 執行期間 | I20: 委辦單位 | Q20: 獎勵補助款金額 | R20: 自籌(配合)款金額
A33: 小計 | J33: =SUM(J21:J32) -> 0 | Q33: =SUM(Q21:Q32) -> 0 | R33: =SUM(R21:R32) -> 0
A35: 六、研習（校內自辦教師研討或研習活動請填寫於【九、學校自辦研習活動】資料表）
A36: 序號 | B36: 教師姓名 | C36: 系所/職級 | D36: 教師證書字號 | E36: 到職日 | F36: 接受獎助事實摘要 | J36: 獎助金額 | K36: 校定辦法條文依據 | L36: 終審機制及審查通過日期註1 | M36: 存校具體成果資料(請填成果名稱)註2 | N36: 傳票日期 | O36: 付款完成日 註3 | P36: 原始憑證冊編號 | Q36: 經費來源 | S36: 備註
F37: 活動名稱 | G37: 參加時間 | H37: 活動地點 | I37: 舉辦單位 | Q37: 獎勵補助款金額 | R37: 自籌(配合)款金額
A49: 小計 | J49: =SUM(J38:J48) -> 0 | Q49: =SUM(Q38:Q48) -> 0 | R49: =SUM(R38:R48) -> 0
A51: 七、進修
A52: 序號 | B52: 教師姓名 | C52: 系所/職級 | D52: 教師證書字號 | E52: 到職日 | F52: 接受獎助事實摘要 | J52: 獎助金額 | K52: 校定辦法條文依據 | L52: 終審機制及審查通過日期註1 | M52: 存校具體成果資料(請填成果名稱)註2 | N52: 傳票日期 | O52: 付款完成日 註3 | P52: 原始憑證冊編號 | Q52: 經費來源 | S52: 備註
F53: 就讀學校及系所 | H53: 學位別 | I53: 開始進修年月 | Q53: 獎勵補助款金額 | R53: 自籌(配合)款金額
A66: 小計 | J66: =SUM(J54:J65) -> 0 | Q66: =SUM(Q54:Q65) -> 0 | R66: =SUM(R54:R65) -> 0
A68: 八、升等
A69: 序號 | B69: 教師姓名 | C69: 系所/職級 | D69: 教師證書字號 | E69: 到職日 | F69: 接受獎助事實摘要(請填具體內容) | J69: 獎助金額 | K69: 校定辦法條文依據 | L69: 終審機制及審查通過日期註1 | M69: 存校具體成果資料(請填成果名稱)註2 | N69: 傳票日期 | O69: 付款完成日 註3 | P69: 原始憑證冊編號 | Q69: 經費來源 | S69: 備註
Q70: 獎勵補助款金額 | R70: 自籌(配合)款金額
A83: 小計 | J83: =SUM(J71:J82) -> 0 | Q83: =SUM(Q71:Q82) -> 0 | R83: =SUM(R71:R82) -> 0
A85: 九、學校自辦研習活動（應以校內教師為主要參加對象，亦即參與教師占總出席人數應達50%以上）
A86: 序號 | B86: 主辦人/主辦單位 | D86: 活動名稱 | G86: 辦理時間 | H86: 總參與 人次 | I86: 校內教師參與人次 | J86: 獎助金額 | K86: 校定辦法條文依據 | L86: 終審機制及審查通過日期註1 | M86: 存校具體成果資料(請填成果名稱)註2 | N86: 傳票日期 | O86: 付款完成日 註3 | P86: 原始憑證冊編號 | Q86: 經費來源 | S86: 備註
Q87: 獎勵補助款金額 | R87: 自籌(配合)款金額
A100: 小計 | J100: =SUM(J88:J99) -> 0 | Q100: =SUM(Q88:Q99) -> 0 | R100: =SUM(R88:R99) -> 0
B102: 註1： | C102: 「終審機制及審查通過日期」請依學校辦法訂定之終審程序填寫。如學校辦法規定之最終審查程序係由校長簽核，則填校長核准簽呈日（如115.7.15校長簽呈核准）；如學校辦法規定之最終審查程序為校教評會通過，則填寫會議通過日期（如115.6.2校教評會）。
B103: 註2： | C103: 「存校具體成果資料」請依學校實際所要求之成果事項填寫，舉例而言，針對教師進修博士學位獎助，實際留存之成果資料為學習心得報告，則成果名稱填為「學習心得報告」；針對研究補助實際要求之成果若為研究計畫結案報告，則成果名稱填為「研究計畫結案報告」…餘以此類推。
B104: 註3： | C104: 「付款完成日」請填實際撥付款項日期－以實際轉帳日或支票到期日為認定基準，作成轉帳或付款傳票不屬於付款完成。如係分期撥付，以最後一次付款日期為付款完成日。如係預支款，請填預支款撥付日，並註明為預支款項；惟若實際核銷金額超出原預支金額時，該欄位請填預支款辦理核銷時之付款日。
B105: 註4： | C105: 接受補助之教師實際授課時數不得為零，惟校長不得接受各項補助。

Sheet 附件六之(二)
A1: 一、外聘社團指導教師之鐘點費註1
A2: 序號 | B2: 教師姓名 | C2: 任職單位 | G2: 職稱 | I2: 所屬社團 | K2: 鐘點費 (元/小時) | L2: 補助金額 | N2: 傳票日期 | O2: 付款完成日 註2 | P2: 原始憑證冊編號 | R2: 經費來源 | T2: 備註
R3: 獎勵補助款金額 | S3: 自籌(配合)款金額
A12: 小計 | L12: =SUM(L4:M11) -> 0 | R12: =SUM(R4:R11) -> 0 | S12: =SUM(S4:S11) -> 0
A14: 二、學生事務及輔導相關物品註3
A15: 優先序 | B15: 項目名稱 | C15: 物品編號 | D15: 廠牌 註4 | E15: 型號 註4 | F15: 規格 | G15: 數量 | H15: 單位 | I15: 單價 | J15: 總價 | K15: 用途說明 | L15: 使用社團 | M15: 使用年限 | N15: 放置地點 (請註明教室及所在大樓) | O15: 驗收完成日 註5 | P15: 付款完成日 註2 | Q15: 公開招標 | R15: 經費來源 | T15: 備註
Q16: 限制性招標 | R16: 獎勵補助款金額 | S16: 自籌(配合)款金額
Q17: (請註明)
A26: 小計 | J26: =SUM(J18:J25) -> 0 | R26: =SUM(R18:R25) -> 0 | S26: =SUM(S18:S25) -> 0
A28: 三、其他學輔相關工作經費執行成效表註1
A29: 序號 | B29: 活動項目 | D29: 辦理時間 | F29: 具體辦理事項 | J29: 獎助金額 | K29: 使用單位及用途 | M29: 校定辦法條文依據 | N29: 存校具體成果資料 | O29: 傳票日期 | P29: 付款完成日 註2 | Q29: 原始憑證冊編號 | R29: 經費來源 | T29: 備註
R30: 獎勵補助款金額 | S30: 自籌(配合)款金額
A40: 小計 | J40: =SUM(J31:J39) -> 0 | R40: =SUM(R31:R39) -> 0 | S40: =SUM(S31:S39) -> 0
A42: 註1： | B42: 學校應於本獎勵補助經費經常門提撥百分之2以上作為學生事務及輔導相關工作，其中至多1/4得用於部分外聘社團指導教師之鐘點費，其餘經常門經費支用比照《教育部獎補助私立大專校院學生事務與輔導工作經費及學校配合款實施要點》辦理。
A43: 註2： | B43: 「付款完成日」請填實際撥付款項日期－以實際轉帳日或支票到期日為認定基準，作成轉帳或付款傳票不屬於付款完成。如係分期撥付，以最後一次付款日期為付款完成日。如係預支款，請填預支款撥付日，並註明為預支款項；惟若實際核銷金額超出原預支金額時，該欄位請填預支款辦理核銷時之付款日。
A44: 註3： | B44: 依《教育部獎補助私立大專校院學生事務與輔導工作經費及學校配合款實施要點》附表之使用說明D2，經常門得購置學生社團活動所需單價在1萬元以下或使用年限在2年以下之物品或非消耗品。
A45: 註4： | B45: 依《教育部獎補助款支出憑證免送審配合作業相關事項》第9點規定，設備購置清冊應將細項廠牌規格、型號等註明清楚。若屬於訂製品，其「型號」請填寫訂製品，並於「廠牌」載明承製廠商名稱。
A46: 註5： | B46: 物品採購如採分期驗收，以最後一次驗收日期為驗收完成日。另驗收作業雖未分期辦理，但學校於驗收時發現問題請廠商補正，則以所有功能確認無誤之驗收日期為驗收完成日。

Sheet 附件六之(三)
A1: 一、行政人員進修
A2: 序號 | B2: 姓名 | C2: 單位/職級 | D2: 到職日 | E2: 接受獎助事實摘要 | I2: 獎助金額 | J2: 校定辦法條文依據 | K2: 終審機制及審查通過日期註1 | L2: 存校具體成果資料(請填成果名稱)註2 | M2: 傳票日期 | N2: 付款完成日 註3 | O2: 原始憑證冊編號 | P2: 經費來源 | R2: 備註
E3: 就讀學校及系所 | G3: 學位別 | H3: 開始進修年月 | P3: 獎勵補助款金額 | Q3: 自籌(配合)款金額
A15: 小計 | I15: =SUM(I4:I14) -> 0 | P15: =SUM(P4:P14) -> 0 | Q15: =SUM(Q4:Q14) -> 0
A17: 二、行政人員業務研習（校內自辦行政人員研討或研習活動請填寫於【三、學校自辦行政研習活動】資料表）
A18: 序號 | B18: 姓名 | C18: 單位/職級 | D18: 到職日 | E18: 接受獎助事實摘要 | I18: 獎助金額 | J18: 校定辦法條文依據 | K18: 終審機制及審查通過日期註1 | L18: 存校具體成果資料(請填成果名稱)註2 | M18: 傳票日期 | N18: 付款完成日 註3 | O18: 原始憑證冊編號 | P18: 經費來源 | R18: 備註
E19: 活動名稱 | F19: 參加時間 | G19: 活動地點 | H19: 舉辦單位 | P19: 獎勵補助款金額 | Q19: 自籌(配合)款金額
A31: 小計 | I31: =SUM(I20:I30) -> 0 | P31: =SUM(P20:P30) -> 0 | Q31: =SUM(Q20:Q30) -> 0
A33: 三、學校自辦行政研習活動（應以校內行政人員為主要參加對象，亦即參與行政人員占總出席人數應達50%以上）
A34: 序號 | B34: 主辦人/主辦單位 | D34: 活動名稱 | F34: 活動期間 | G34: 總參與 人次 | H34: 校內人員參與人次 | I34: 獎助金額 | J34: 校定辦法條文依據 | K34: 終審機制及審查通過日期註1 | L34: 存校具體成果資料(請填成果名稱)註2 | M34: 傳票日期 | N34: 付款完成日 註3 | O34: 原始憑證冊編號 | P34: 經費來源 | R34: 備註
P35: 獎勵補助款金額 | Q35: 自籌(配合)款金額
A47: 小計 | I47: =SUM(I36:I46) -> 0 | P47: =SUM(P36:P46) -> 0 | Q47: =SUM(Q36:Q46) -> 0
B49: 註1： | C49: 「終審機制及審查通過日期」請依學校辦法訂定之終審程序填寫。如學校辦法規定之最終審查程序係由校長簽核，則填校長核准簽呈日（如115.3.20校長簽呈核准）；如學校辦法規定之最終審查程序為行政會議通過，則填寫會議通過日期（如115.5.2行政會議）。
B50: 註2： | C50: 「存校具體成果資料」請依學校實際所要求之成果事項填寫，舉例而言，針對行政人員進修碩士獎助，實際留存之成果資料為學習心得報告，則成果名稱填為「學習心得報告」；自辦行政研習活動如係留存結案報告，則填為「活動結案報告」…餘以此類推。
B51: 註3： | C51: 「付款完成日」請填實際撥付款項日期－以實際轉帳日或支票到期日為認定基準，作成轉帳或付款傳票不屬於付款完成。如係分期撥付，以最後一次付款日期為付款完成日。如係預支款，請填預支款撥付日，並註明為預支款項；惟若實際核銷金額超出原預支金額時，該欄位請填預支款辦理核銷時之付款日。

Sheet 附件六之(四)
A1: 優先序 | B1: 物品類別 (請由下拉式選單中選取) | C1: 項目名稱 | D1: 物品編號 | E1: 廠牌 註1 | F1: 型號 註1 | G1: 規格 | H1: 數量 | I1: 單位 | J1: 單價 | K1: 總價 | L1: 用途說明 | M1: 使用單位 | N1: 使用年限 | O1: 放置地點 (請註明教室及所在大樓) | P1: 驗收完成日 註2 | Q1: 付款完成日 註3 | R1: 公開招標 | S1: 經費來源 | U1: 備註
R2: 限制性招標 | S2: 獎勵補助款金額 | T2: 自籌(配合)款金額
R3: (請註明)
A19: 合計 | K19: =SUM(K4:K18) -> 0 | S19: =SUM(S4:S18) -> 0 | T19: =SUM(T4:T18) -> 0
A21: 註1： | B21: 依《教育部獎補助款支出憑證免送審配合作業相關事項》第9點規定，設備購置清冊應將細項廠牌規格、型號等註明清楚。若屬於訂製品，其「型號」請填寫訂製品，並於「廠牌」載明承製廠商名稱。
A22: 註2： | B22: 物品採購如採分期驗收，以最後一次驗收日期為驗收完成日。另驗收作業雖未分期辦理，但學校於驗收時發現問題請廠商補正，則以所有功能確認無誤之驗收日期為驗收完成日。
A23: 註3： | B23: 「付款完成日」請填實際撥付款項日期－以實際轉帳日或支票到期日為認定基準，作成轉帳或付款傳票不屬於付款完成。如係分期撥付，以最後一次付款日期為付款完成日。

Sheet 附件六之(五)
A1: 優先序 | B1: 類別(請由下拉式選單中選取) | C1: 項目名稱 | D1: 規格 | E1: 數量 | F1: 單位 | G1: 單價 | H1: 總價 | I1: 用途說明 | J1: 使用單位 | K1: 授權 使用年限 | L1: 保管單位 | M1: 驗收完成日 註1 | N1: 付款完成日 註2 | O1: 公開招標 | P1: 經費來源 | R1: 備註
O2: 限制性招標 | P2: 獎勵補助款金額 | Q2: 自籌(配合)款金額
O3: (請註明)
A14: 合計 | H14: =SUM(H4:H13) -> 0 | P14: =SUM(P4:P13) -> 0 | Q14: =SUM(Q4:Q13) -> 0
A16: 註1： | B16: 電子資料庫、軟體採購如採分期驗收，以最後一次驗收日期為驗收完成日。另驗收作業雖未分期辦理，但學校於驗收時發現問題請廠商補正，則以所有功能確認無誤之驗收日期為驗收完成日。
A17: 註2： | B17: 「付款完成日」請填實際撥付款項日期－以實際轉帳日或支票到期日為認定基準，作成轉帳或付款傳票不屬於付款完成。如係分期撥付，以最後一次付款日期為付款完成日。

Sheet 附件六之(六)
A1: 優先序 | B1: 類別(請由下拉式選單中選取) | C1: 項目名稱 | D1: 規格 | E1: 數量 | F1: 單位 | G1: 單價 | H1: 總價 | I1: 用途說明 | J1: 使用單位 註1 | K1: 使用年限 註1 | L1: 放置地點註1 (請註明所在大樓) | M1: 保管單位 註1 | N1: 驗收完成日 註2 | O1: 付款完成日 註3 | P1: 公開招標 | Q1: 經費來源 | S1: 備註
P2: 限制性招標 | Q2: 獎勵補助款金額 | R2: 自籌(配合)款金額
P3: (請註明)
A14: 合計 | H14: =SUM(H4:H13) -> 0 | Q14: =SUM(Q4:Q13) -> 0 | R14: =SUM(R4:R13) -> 0
A16: 註1： | B16: 冷氣設施維護費以支應學校定期辦理冷氣設施清洗、保養及檢查等作業所需之勞務費用為原則，其「使用年限」欄位得免填或以「－」表示；「使用單位」、「保管單位」及「放置地點」等欄位，請填列該冷氣設施之實際使用對象、保管單位及裝設地點。
A17: 註2： | B17: 採購案件如採分期驗收，以最後一次驗收日期為驗收完成日。另驗收作業雖未分期辦理，但學校於驗收時發現問題請廠商補正，則以所有功能確認無誤之驗收日期為驗收完成日。
A18: 註3： | B18: 「付款完成日」請填實際撥付款項日期－以實際轉帳日或支票到期日為認定基準，作成轉帳或付款傳票不屬於付款完成。如係分期撥付，以最後一次付款日期為付款完成日。

Sheet 附件六之(七)
A1: 一、系所運作所需經費註1
A2: 序號 | B2: 工作/活動項目 | D2: 執行時間 | F2: 具體執行事項 | J2: 補助金額 | K2: 使用系所及用途 | M2: 校定辦法條文依據 | N2: 存校具體成果資料 | O2: 傳票日期 | P2: 付款完成日 註3 | Q2: 原始憑證冊編號 | R2: 經費來源 | T2: 備註
R3: 獎勵補助款金額 | S3: 自籌(配合)款金額
A13: 小計 | J13: =SUM(J4:J12) -> 0 | R13: =SUM(R4:R12) -> 0 | S13: =SUM(S4:S12) -> 0
A15: 二、非消耗品或消耗用品註2
A16: 優先序 | B16: 項目名稱 | C16: 物品編號 | D16: 廠牌 註4 | E16: 型號 註4 | F16: 規格 | G16: 數量 | H16: 單位 | I16: 單價 | J16: 總價 | K16: 用途說明 | L16: 使用系所 | M16: 使用年限 | N16: 放置地點 (請註明教室及所在大樓) | O16: 驗收完成日 註5 | P16: 付款完成日 註3 | Q16: 公開招標 | R16: 經費來源 | T16: 備註
Q17: 限制性招標 | R17: 獎勵補助款金額 | S17: 自籌(配合)款金額
Q18: (請註明)
A27: 小計 | J27: =SUM(J19:J26) -> 0 | R27: =SUM(R19:R26) -> 0 | S27: =SUM(S19:S26) -> 0
A29: 註1： | B29: 已申請提升學生留用合作機構成效獎勵經費並獲核定之學校，所獲核定之經費僅限用於執行113年度「產業實務人才培育專班」之系所。其支用項目及基準應參考中央政府第一級至第三級用途別科目分類定義及計列標準表之規定列支，並依《教育部補（捐）助及委辦經費核撥結報作業要點》相關規定辦理。
A30: 註2： | B30: 經常門非消耗品、消耗用品之劃分，請依行政院主計總處發布之《財物標準分類》規定辦理。若為購置「消耗用品」，其物品編號、廠牌、型號欄位可不填寫，或以「－」呈現。
A31: 註3： | B31: 「付款完成日」請填實際撥付款項日期－以實際轉帳日或支票到期日為認定基準，作成轉帳或付款傳票不屬於付款完成。如係分期撥付，以最後一次付款日期為付款完成日。如係預支款，請填預支款撥付日，並註明為預支款項；惟若實際核銷金額超出原預支金額時，該欄位請填預支款辦理核銷時之付款日。
A32: 註4： | B32: 依《教育部獎補助款支出憑證免送審配合作業相關事項》第9點規定，設備購置清冊應將細項廠牌規格、型號等註明清楚。若屬於訂製品，其「型號」請填寫訂製品，並於「廠牌」載明承製廠商名稱。
A33: 註5： | B33: 採購案件如採分期驗收，以最後一次驗收日期為驗收完成日。另驗收作業雖未分期辦理，但學校於驗收時發現問題請廠商補正，則以所有功能確認無誤之驗收日期為驗收完成日。

Sheet 附錄一
A1: 結餘款說明
A4: 註1：請說明產生結餘款之具體原因；若無結餘款，則免填本欄。

Sheet 附錄二
A1: 執行清冊附件 | B1: 序號/優先序 | C1: 執行內容 | D1: 補助金額 | E1: 校務發展與產業鏈結之使用情形 | F1: 結合學校辦學特色與所在縣市產業發展連結之執行成果 | G1: 經費來源 | I1: 備註
G2: 獎勵補助款金額 | H2: 自籌(配合)款金額
A3: 附件一 (範例) | B3: A005 | C3: 採購○○○○○設備，用於○○○○○○○○○○ | D3: 550000 | E3: ○○○○○○○○○○○○○○○○○○○○○○○○○○○○○○○○ | F3: ○○○○○○○○○○○○○○○○○○○○○○○○○○○○○○○○ | G3: 500000 | H3: 50000
A4: 附件六之(一B) (範例) | B4: 研究26 | C4: 教師執行○○○○○○○○產學合作計畫 | D4: 36000 | E4: ○○○○○○○○○○○○○○○○○○○○○○○○○○○○○○○○ | F4: ○○○○○○○○○○○○○○○○○○○○○○○○○○○○○○○○ | G4: 36000 | H4: 0
A12: 小計 | D12: =SUM(D3:D11) -> 586000 | G12: =SUM(G3:G11) -> 536000 | H12: =SUM(H3:H11) -> 50000
A14: 註1： | B14: 依《私立學校法》第59條規定，針對教育資源不足之地區，得優先予以獎勵補助。1縣市僅1所技專校院之學校，肩負所在縣市產業人才培育重任，爰依《私立學校法》規定增加補助經費。
A15: 註2： | B15: 依教育部115年度獎勵補助經費第2期款核配函文，獲本項補助經費之學校須於當年度執行清冊說明經費用於校務發展與產業鏈結之使用情形，並應結合學校辦學特色與所在縣市產業發展連結之執行成果，其執行成果將作為次年核配本項經費之參據。
A16: 註3： | B16: 表列「範例」僅供學校參考，填表時請自行刪除範例內容，並依學校實際執行情形填寫。表格如不敷使用，請自行增列。

Sheet 附錄三
A1: 執行清冊附件 | B1: 序號/優先序 | C1: 執行內容 | D1: 補助金額 | E1: 提升校務經營與治理效能 之具體精進措施 | F1: 對校務治理、教學品質及學生支持所產生之實質效益與影響 | G1: 經費來源 | I1: 備註
G2: 獎勵補助款金額 | H2: 自籌(配合)款金額
A3: 附件六之(五) (範例) | B3: F007 | C3: 採購○○○分析軟體，用於○○○○○○○○○○ | D3: 200000 | E3: ○○○○○○○○○○○○○○○○○○○○○○○○○○○○○○○○ | F3: ○○○○○○○○○○○○○○○○○○○○○○○○○○○○○○○○ | G3: 150000 | H3: 5000
A4: 附件六之(一B) (範例) | B4: 研究12 | C4: 教師執行○○○○○○○○校務研究計畫 | D4: 50000 | E4: ○○○○○○○○○○○○○○○○○○○○○○○○○○○○○○○○ | F4: ○○○○○○○○○○○○○○○○○○○○○○○○○○○○○○○○ | G4: 50000 | H4: 0
A5: 附件六之(三) (範例) | B5: 自辦研習05 | C5: 辦理○○○○○○○○校務研究研討會 | D5: 40000 | E5: ○○○○○○○○○○○○○○○○○○○○○○○○○○○○○○○○ | F5: ○○○○○○○○○○○○○○○○○○○○○○○○○○○○○○○○ | G5: 36000 | H5: 4000
A12: 小計 | D12: =SUM(D3:D11) -> 290000 | G12: =SUM(G3:G11) -> 236000 | H12: =SUM(H3:H11) -> 9000
A14: 註1： | B14: 依教育部115年度獎勵補助經費第2期款核配函文，應編列執行校務研究（IR）推動經費之學校，須於當年度執行清冊中敘明相關經費之運用情形及執行成效，以展現如何透過資源投入強化校務研究能量、完善校務治理機制，並進一步落實品質保證與永續發展。
A15: 註2： | B15: 表列「範例」僅供學校參考，填表時請自行刪除範例內容，並依學校實際執行情形填寫。表格如不敷使用，請自行增列。
